BEGIN:VCALENDAR
VERSION:2.0
PRODID:-//Apple Capital Gymnastics - ECPv6.15.20//NONSGML v1.0//EN
CALSCALE:GREGORIAN
METHOD:PUBLISH
X-WR-CALNAME:Apple Capital Gymnastics
X-ORIGINAL-URL:https://applecapitalgymnastics.com
X-WR-CALDESC:Events for Apple Capital Gymnastics
REFRESH-INTERVAL;VALUE=DURATION:PT1H
X-Robots-Tag:noindex
X-PUBLISHED-TTL:PT1H
BEGIN:VTIMEZONE
TZID:America/Los_Angeles
BEGIN:DAYLIGHT
TZOFFSETFROM:-0800
TZOFFSETTO:-0700
TZNAME:PDT
DTSTART:20240310T100000
END:DAYLIGHT
BEGIN:STANDARD
TZOFFSETFROM:-0700
TZOFFSETTO:-0800
TZNAME:PST
DTSTART:20241103T090000
END:STANDARD
BEGIN:DAYLIGHT
TZOFFSETFROM:-0800
TZOFFSETTO:-0700
TZNAME:PDT
DTSTART:20250309T100000
END:DAYLIGHT
BEGIN:STANDARD
TZOFFSETFROM:-0700
TZOFFSETTO:-0800
TZNAME:PST
DTSTART:20251102T090000
END:STANDARD
BEGIN:DAYLIGHT
TZOFFSETFROM:-0800
TZOFFSETTO:-0700
TZNAME:PDT
DTSTART:20260308T100000
END:DAYLIGHT
BEGIN:STANDARD
TZOFFSETFROM:-0700
TZOFFSETTO:-0800
TZNAME:PST
DTSTART:20261101T090000
END:STANDARD
BEGIN:DAYLIGHT
TZOFFSETFROM:-0800
TZOFFSETTO:-0700
TZNAME:PDT
DTSTART:20270314T100000
END:DAYLIGHT
BEGIN:STANDARD
TZOFFSETFROM:-0700
TZOFFSETTO:-0800
TZNAME:PST
DTSTART:20271107T090000
END:STANDARD
END:VTIMEZONE
BEGIN:VEVENT
DTSTART;TZID=America/Los_Angeles:20251229T000000
DTEND;TZID=America/Los_Angeles:20260102T235959
DTSTAMP:20260423T135204
CREATED:20251211T052800Z
LAST-MODIFIED:20251211T052925Z
UID:5942-1766966400-1767398399@applecapitalgymnastics.com
SUMMARY:Winter Break - No classes
DESCRIPTION:Closed for winter break. No recreational classes. We are still open for Indoor Parks\, Clinics and Open Gyms.  \n\n\n\nSee our full Winter Break Event Schedule.
URL:https://applecapitalgymnastics.com/event/winter-break-no-classes/
CATEGORIES:Notices
END:VEVENT
BEGIN:VEVENT
DTSTART;TZID=America/Los_Angeles:20251229T093000
DTEND;TZID=America/Los_Angeles:20251229T110000
DTSTAMP:20260423T135204
CREATED:20251204T234456Z
LAST-MODIFIED:20251207T002839Z
UID:5863-1767000600-1767006000@applecapitalgymnastics.com
SUMMARY:Indoor Park
DESCRIPTION:Indoor Park for kids ages 0-10 years. Parent supervision required. \n\n\n\n$12 per child / $8 siblings \n\n\n\nSee our full Winter Break Event Schedule.
URL:https://applecapitalgymnastics.com/event/5863/
LOCATION:Apple Capital Gymnastics\, 230 S. Columbia St. #3\, Wenatchee\, WA\, 98801\, United States
CATEGORIES:Indoor Parks
END:VEVENT
BEGIN:VEVENT
DTSTART;TZID=America/Los_Angeles:20251229T113000
DTEND;TZID=America/Los_Angeles:20251229T123000
DTSTAMP:20260423T135204
CREATED:20251205T213816Z
LAST-MODIFIED:20251207T002703Z
UID:5889-1767007800-1767011400@applecapitalgymnastics.com
SUMMARY:Tumbling Clinic (Cartwheels)
DESCRIPTION:Cartwheel tumbling clinic for ages 5-16. Space is limited. Please call or email our office to register. \n\n\n\n$10 per child / $7 siblings \n\n\n\nSee our full Winter Break Event Schedule.
URL:https://applecapitalgymnastics.com/event/tumbling-clinic-cartwheels-2/
LOCATION:Apple Capital Gymnastics\, 230 S. Columbia St. #3\, Wenatchee\, WA\, 98801\, United States
CATEGORIES:Clinics
END:VEVENT
BEGIN:VEVENT
DTSTART;TZID=America/Los_Angeles:20251229T123000
DTEND;TZID=America/Los_Angeles:20251229T133000
DTSTAMP:20260423T135204
CREATED:20251205T214133Z
LAST-MODIFIED:20251205T214419Z
UID:5891-1767011400-1767015000@applecapitalgymnastics.com
SUMMARY:Tumbling Clinic (Back Handsprings)
DESCRIPTION:Back Handspring tumbling clinic for ages 5-16. Space is limited. Please call or email our office to register. \n\n\n\n$15 per clinic / $7 siblings \n\n\n\nSee our full Winter Break Event Schedule.
URL:https://applecapitalgymnastics.com/event/tumbling-clinic-back-handsprings-2/
LOCATION:Apple Capital Gymnastics\, 230 S. Columbia St. #3\, Wenatchee\, WA\, 98801\, United States
CATEGORIES:Clinics
END:VEVENT
END:VCALENDAR