BEGIN:VCALENDAR
VERSION:2.0
PRODID:-//Apple Capital Gymnastics - ECPv6.15.20//NONSGML v1.0//EN
CALSCALE:GREGORIAN
METHOD:PUBLISH
X-WR-CALNAME:Apple Capital Gymnastics
X-ORIGINAL-URL:https://applecapitalgymnastics.com
X-WR-CALDESC:Events for Apple Capital Gymnastics
REFRESH-INTERVAL;VALUE=DURATION:PT1H
X-Robots-Tag:noindex
X-PUBLISHED-TTL:PT1H
BEGIN:VTIMEZONE
TZID:America/Los_Angeles
BEGIN:DAYLIGHT
TZOFFSETFROM:-0800
TZOFFSETTO:-0700
TZNAME:PDT
DTSTART:20240310T100000
END:DAYLIGHT
BEGIN:STANDARD
TZOFFSETFROM:-0700
TZOFFSETTO:-0800
TZNAME:PST
DTSTART:20241103T090000
END:STANDARD
BEGIN:DAYLIGHT
TZOFFSETFROM:-0800
TZOFFSETTO:-0700
TZNAME:PDT
DTSTART:20250309T100000
END:DAYLIGHT
BEGIN:STANDARD
TZOFFSETFROM:-0700
TZOFFSETTO:-0800
TZNAME:PST
DTSTART:20251102T090000
END:STANDARD
BEGIN:DAYLIGHT
TZOFFSETFROM:-0800
TZOFFSETTO:-0700
TZNAME:PDT
DTSTART:20260308T100000
END:DAYLIGHT
BEGIN:STANDARD
TZOFFSETFROM:-0700
TZOFFSETTO:-0800
TZNAME:PST
DTSTART:20261101T090000
END:STANDARD
BEGIN:DAYLIGHT
TZOFFSETFROM:-0800
TZOFFSETTO:-0700
TZNAME:PDT
DTSTART:20270314T100000
END:DAYLIGHT
BEGIN:STANDARD
TZOFFSETFROM:-0700
TZOFFSETTO:-0800
TZNAME:PST
DTSTART:20271107T090000
END:STANDARD
END:VTIMEZONE
BEGIN:VEVENT
DTSTART;TZID=America/Los_Angeles:20251229T000000
DTEND;TZID=America/Los_Angeles:20260102T235959
DTSTAMP:20260423T135204
CREATED:20251211T052800Z
LAST-MODIFIED:20251211T052925Z
UID:5942-1766966400-1767398399@applecapitalgymnastics.com
SUMMARY:Winter Break - No classes
DESCRIPTION:Closed for winter break. No recreational classes. We are still open for Indoor Parks\, Clinics and Open Gyms.  \n\n\n\nSee our full Winter Break Event Schedule.
URL:https://applecapitalgymnastics.com/event/winter-break-no-classes/
CATEGORIES:Notices
END:VEVENT
BEGIN:VEVENT
DTSTART;TZID=America/Los_Angeles:20251230T093000
DTEND;TZID=America/Los_Angeles:20251230T110000
DTSTAMP:20260423T135204
CREATED:20251207T003133Z
LAST-MODIFIED:20251207T071454Z
UID:5907-1767087000-1767092400@applecapitalgymnastics.com
SUMMARY:Indoor Park
DESCRIPTION:Indoor Park for kids ages 0-10 years. Parent supervision required. \n\n\n\n$12 per child / $8 siblings \n\n\n\nSee our full Winter Break Event Schedule.
URL:https://applecapitalgymnastics.com/event/indoor-park-2/
LOCATION:Apple Capital Gymnastics\, 230 S. Columbia St. #3\, Wenatchee\, WA\, 98801\, United States
CATEGORIES:Indoor Parks
END:VEVENT
BEGIN:VEVENT
DTSTART;TZID=America/Los_Angeles:20251230T110000
DTEND;TZID=America/Los_Angeles:20251230T120000
DTSTAMP:20260423T135204
CREATED:20251206T235734Z
LAST-MODIFIED:20251207T000202Z
UID:5899-1767092400-1767096000@applecapitalgymnastics.com
SUMMARY:Bars Clinic
DESCRIPTION:Bar clinic for ages 5-16. Space is limited. Please call or email our office to register. \n\n\n\n$10 per child / $7 siblings \n\n\n\nSee our full Winter Break Event Schedule.
URL:https://applecapitalgymnastics.com/event/bars-clinic-2/
LOCATION:Apple Capital Gymnastics\, 230 S. Columbia St. #3\, Wenatchee\, WA\, 98801\, United States
CATEGORIES:Clinics
END:VEVENT
BEGIN:VEVENT
DTSTART;TZID=America/Los_Angeles:20251230T120000
DTEND;TZID=America/Los_Angeles:20251230T140000
DTSTAMP:20260423T135204
CREATED:20251207T070703Z
LAST-MODIFIED:20251207T070703Z
UID:5926-1767096000-1767103200@applecapitalgymnastics.com
SUMMARY:Open Gym
DESCRIPTION:Open Gym for kids ages 8-16 years \n$18 per child / $12 siblings \nSee our full Winter Break Event Schedule.
URL:https://applecapitalgymnastics.com/event/open-gym-3/
LOCATION:Apple Capital Gymnastics\, 230 S. Columbia St. #3\, Wenatchee\, WA\, 98801\, United States
CATEGORIES:Open Gyms
END:VEVENT
END:VCALENDAR