BEGIN:VCALENDAR
VERSION:2.0
PRODID:-//Apple Capital Gymnastics - ECPv6.15.20//NONSGML v1.0//EN
CALSCALE:GREGORIAN
METHOD:PUBLISH
X-WR-CALNAME:Apple Capital Gymnastics
X-ORIGINAL-URL:https://applecapitalgymnastics.com
X-WR-CALDESC:Events for Apple Capital Gymnastics
REFRESH-INTERVAL;VALUE=DURATION:PT1H
X-Robots-Tag:noindex
X-PUBLISHED-TTL:PT1H
BEGIN:VTIMEZONE
TZID:America/Los_Angeles
BEGIN:DAYLIGHT
TZOFFSETFROM:-0800
TZOFFSETTO:-0700
TZNAME:PDT
DTSTART:20250309T100000
END:DAYLIGHT
BEGIN:STANDARD
TZOFFSETFROM:-0700
TZOFFSETTO:-0800
TZNAME:PST
DTSTART:20251102T090000
END:STANDARD
BEGIN:DAYLIGHT
TZOFFSETFROM:-0800
TZOFFSETTO:-0700
TZNAME:PDT
DTSTART:20260308T100000
END:DAYLIGHT
BEGIN:STANDARD
TZOFFSETFROM:-0700
TZOFFSETTO:-0800
TZNAME:PST
DTSTART:20261101T090000
END:STANDARD
BEGIN:DAYLIGHT
TZOFFSETFROM:-0800
TZOFFSETTO:-0700
TZNAME:PDT
DTSTART:20270314T100000
END:DAYLIGHT
BEGIN:STANDARD
TZOFFSETFROM:-0700
TZOFFSETTO:-0800
TZNAME:PST
DTSTART:20271107T090000
END:STANDARD
END:VTIMEZONE
BEGIN:VEVENT
DTSTART;TZID=America/Los_Angeles:20260406T000000
DTEND;TZID=America/Los_Angeles:20260410T235959
DTSTAMP:20260423T090419
CREATED:20250819T144626Z
LAST-MODIFIED:20260408T152047Z
UID:5199-1775433600-1775865599@applecapitalgymnastics.com
SUMMARY:Spring Break
DESCRIPTION:Classes will be closed for spring break. Join us for some fun indoor parks and clinics!
URL:https://applecapitalgymnastics.com/event/closed-spring-break/
CATEGORIES:Notices
END:VEVENT
BEGIN:VEVENT
DTSTART;TZID=America/Los_Angeles:20260408T093000
DTEND;TZID=America/Los_Angeles:20260408T110000
DTSTAMP:20260423T090419
CREATED:20260408T152340Z
LAST-MODIFIED:20260408T152844Z
UID:6775-1775640600-1775646000@applecapitalgymnastics.com
SUMMARY:Spring Break Indoor Park
DESCRIPTION:Spring Break Indoor Park for ages 8-10 \n\n\n\n$12 for first child\, $8 for siblings \n\n\n\nParent supervision required
URL:https://applecapitalgymnastics.com/event/spring-break-indoor-park-2/
CATEGORIES:Holiday Event
END:VEVENT
BEGIN:VEVENT
DTSTART;TZID=America/Los_Angeles:20260408T113000
DTEND;TZID=America/Los_Angeles:20260408T123000
DTSTAMP:20260423T090419
CREATED:20260408T153638Z
LAST-MODIFIED:20260408T153830Z
UID:6779-1775647800-1775651400@applecapitalgymnastics.com
SUMMARY:Beam Clinic
DESCRIPTION:Spring Break Beam Clinic for ages 5+ \n\n\n\n$15 \n\n\n\nPreregistration Required
URL:https://applecapitalgymnastics.com/event/beam-clinic/
CATEGORIES:Holiday Event
END:VEVENT
END:VCALENDAR