BEGIN:VCALENDAR
VERSION:2.0
PRODID:-//Apple Capital Gymnastics - ECPv6.15.20//NONSGML v1.0//EN
CALSCALE:GREGORIAN
METHOD:PUBLISH
X-WR-CALNAME:Apple Capital Gymnastics
X-ORIGINAL-URL:https://applecapitalgymnastics.com
X-WR-CALDESC:Events for Apple Capital Gymnastics
REFRESH-INTERVAL;VALUE=DURATION:PT1H
X-Robots-Tag:noindex
X-PUBLISHED-TTL:PT1H
BEGIN:VTIMEZONE
TZID:America/Los_Angeles
BEGIN:DAYLIGHT
TZOFFSETFROM:-0800
TZOFFSETTO:-0700
TZNAME:PDT
DTSTART:20250309T100000
END:DAYLIGHT
BEGIN:STANDARD
TZOFFSETFROM:-0700
TZOFFSETTO:-0800
TZNAME:PST
DTSTART:20251102T090000
END:STANDARD
BEGIN:DAYLIGHT
TZOFFSETFROM:-0800
TZOFFSETTO:-0700
TZNAME:PDT
DTSTART:20260308T100000
END:DAYLIGHT
BEGIN:STANDARD
TZOFFSETFROM:-0700
TZOFFSETTO:-0800
TZNAME:PST
DTSTART:20261101T090000
END:STANDARD
BEGIN:DAYLIGHT
TZOFFSETFROM:-0800
TZOFFSETTO:-0700
TZNAME:PDT
DTSTART:20270314T100000
END:DAYLIGHT
BEGIN:STANDARD
TZOFFSETFROM:-0700
TZOFFSETTO:-0800
TZNAME:PST
DTSTART:20271107T090000
END:STANDARD
END:VTIMEZONE
BEGIN:VEVENT
DTSTART;TZID=America/Los_Angeles:20260406T000000
DTEND;TZID=America/Los_Angeles:20260410T235959
DTSTAMP:20260423T105117
CREATED:20250819T144626Z
LAST-MODIFIED:20260408T152047Z
UID:5199-1775433600-1775865599@applecapitalgymnastics.com
SUMMARY:Spring Break
DESCRIPTION:Classes will be closed for spring break. Join us for some fun indoor parks and clinics!
URL:https://applecapitalgymnastics.com/event/closed-spring-break/
CATEGORIES:Notices
END:VEVENT
BEGIN:VEVENT
DTSTART;TZID=America/Los_Angeles:20260409T100000
DTEND;TZID=America/Los_Angeles:20260409T110000
DTSTAMP:20260423T105117
CREATED:20260408T160254Z
LAST-MODIFIED:20260408T160349Z
UID:6822-1775728800-1775732400@applecapitalgymnastics.com
SUMMARY:Cartwheel / Handstand Clinic
DESCRIPTION:Spring Break Cartwheel and Handstand Clinic for ages 5+ \n\n\n\n$15 \n\n\n\nPre-registration required
URL:https://applecapitalgymnastics.com/event/cartwheel-handstand-clinic/
CATEGORIES:Holiday Event
END:VEVENT
BEGIN:VEVENT
DTSTART;TZID=America/Los_Angeles:20260409T111500
DTEND;TZID=America/Los_Angeles:20260409T121500
DTSTAMP:20260423T105117
CREATED:20260408T184902Z
LAST-MODIFIED:20260409T183138Z
UID:6824-1775733300-1775736900@applecapitalgymnastics.com
SUMMARY:Back Handspring Clinic
DESCRIPTION:Back Handspring Clinic for ages 5+ \n\n\n\n$15 \n\n\n\nPre-registration required
URL:https://applecapitalgymnastics.com/event/back-handspring-clinic-2/
CATEGORIES:Clinics,Holiday Event
END:VEVENT
BEGIN:VEVENT
DTSTART;TZID=America/Los_Angeles:20260409T123000
DTEND;TZID=America/Los_Angeles:20260409T133000
DTSTAMP:20260423T105117
CREATED:20260409T181613Z
LAST-MODIFIED:20260409T183152Z
UID:6829-1775737800-1775741400@applecapitalgymnastics.com
SUMMARY:Bar Clinic
DESCRIPTION:Bar Clinic for ages 5+ \n\n\n\n$15 \n\n\n\nPre-registration required
URL:https://applecapitalgymnastics.com/event/bar-clinic/
CATEGORIES:Clinics,Holiday Event
END:VEVENT
END:VCALENDAR