BEGIN:VCALENDAR
VERSION:2.0
PRODID:-//Apple Capital Gymnastics - ECPv6.15.20//NONSGML v1.0//EN
CALSCALE:GREGORIAN
METHOD:PUBLISH
X-WR-CALNAME:Apple Capital Gymnastics
X-ORIGINAL-URL:https://applecapitalgymnastics.com
X-WR-CALDESC:Events for Apple Capital Gymnastics
REFRESH-INTERVAL;VALUE=DURATION:PT1H
X-Robots-Tag:noindex
X-PUBLISHED-TTL:PT1H
BEGIN:VTIMEZONE
TZID:America/Los_Angeles
BEGIN:DAYLIGHT
TZOFFSETFROM:-0800
TZOFFSETTO:-0700
TZNAME:PDT
DTSTART:20240310T100000
END:DAYLIGHT
BEGIN:STANDARD
TZOFFSETFROM:-0700
TZOFFSETTO:-0800
TZNAME:PST
DTSTART:20241103T090000
END:STANDARD
BEGIN:DAYLIGHT
TZOFFSETFROM:-0800
TZOFFSETTO:-0700
TZNAME:PDT
DTSTART:20250309T100000
END:DAYLIGHT
BEGIN:STANDARD
TZOFFSETFROM:-0700
TZOFFSETTO:-0800
TZNAME:PST
DTSTART:20251102T090000
END:STANDARD
BEGIN:DAYLIGHT
TZOFFSETFROM:-0800
TZOFFSETTO:-0700
TZNAME:PDT
DTSTART:20260308T100000
END:DAYLIGHT
BEGIN:STANDARD
TZOFFSETFROM:-0700
TZOFFSETTO:-0800
TZNAME:PST
DTSTART:20261101T090000
END:STANDARD
END:VTIMEZONE
BEGIN:VEVENT
DTSTART;TZID=America/Los_Angeles:20251213T083000
DTEND;TZID=America/Los_Angeles:20251213T100000
DTSTAMP:20260423T165524
CREATED:20250722T210254Z
LAST-MODIFIED:20251204T220500Z
UID:4874-1765614600-1765620000@applecapitalgymnastics.com
SUMMARY:Indoor Park
DESCRIPTION:Indoor Park for kids ages 0-7 yearsEvery Monday 9:30 – 11am and Saturday 8:30 – 10amFirst Child – $12 (tax included)Siblings – $8 (tax included)Please ask the office about our punch cards to earn a free day.
URL:https://applecapitalgymnastics.com/event/indoor-park-102/
LOCATION:Apple Capital Gymnastics\, 230 S. Columbia St. #3\, Wenatchee\, WA\, 98801\, United States
CATEGORIES:Indoor Parks
END:VEVENT
END:VCALENDAR