BEGIN:VCALENDAR
VERSION:2.0
PRODID:-//Apple Capital Gymnastics - ECPv6.15.20//NONSGML v1.0//EN
CALSCALE:GREGORIAN
METHOD:PUBLISH
X-WR-CALNAME:Apple Capital Gymnastics
X-ORIGINAL-URL:https://applecapitalgymnastics.com
X-WR-CALDESC:Events for Apple Capital Gymnastics
REFRESH-INTERVAL;VALUE=DURATION:PT1H
X-Robots-Tag:noindex
X-PUBLISHED-TTL:PT1H
BEGIN:VTIMEZONE
TZID:America/Los_Angeles
BEGIN:DAYLIGHT
TZOFFSETFROM:-0800
TZOFFSETTO:-0700
TZNAME:PDT
DTSTART:20250309T100000
END:DAYLIGHT
BEGIN:STANDARD
TZOFFSETFROM:-0700
TZOFFSETTO:-0800
TZNAME:PST
DTSTART:20251102T090000
END:STANDARD
BEGIN:DAYLIGHT
TZOFFSETFROM:-0800
TZOFFSETTO:-0700
TZNAME:PDT
DTSTART:20260308T100000
END:DAYLIGHT
BEGIN:STANDARD
TZOFFSETFROM:-0700
TZOFFSETTO:-0800
TZNAME:PST
DTSTART:20261101T090000
END:STANDARD
BEGIN:DAYLIGHT
TZOFFSETFROM:-0800
TZOFFSETTO:-0700
TZNAME:PDT
DTSTART:20270314T100000
END:DAYLIGHT
BEGIN:STANDARD
TZOFFSETFROM:-0700
TZOFFSETTO:-0800
TZNAME:PST
DTSTART:20271107T090000
END:STANDARD
END:VTIMEZONE
BEGIN:VEVENT
DTSTART;TZID=America/Los_Angeles:20260420T093000
DTEND;TZID=America/Los_Angeles:20260420T110000
DTSTAMP:20260423T122835
CREATED:20250717T235606Z
LAST-MODIFIED:20250717T235606Z
UID:4794-1776677400-1776682800@applecapitalgymnastics.com
SUMMARY:Indoor Park
DESCRIPTION:Indoor Park for kids ages 0-7 yearsEvery Monday 9:30 – 11am and Saturday 8:30 – 10am \nFirst Child – $12 (tax included)Siblings – $8 (tax included)Please ask the office about our punch cards to earn a free day.
URL:https://applecapitalgymnastics.com/event/indoor-park-84/
LOCATION:Apple Capital Gymnastics\, 230 S. Columbia St. #3\, Wenatchee\, WA\, 98801\, United States
CATEGORIES:Indoor Parks
END:VEVENT
BEGIN:VEVENT
DTSTART;TZID=America/Los_Angeles:20260418T083000
DTEND;TZID=America/Los_Angeles:20260418T100000
DTSTAMP:20260423T122835
CREATED:20250722T210912Z
LAST-MODIFIED:20250722T210912Z
UID:4892-1776501000-1776506400@applecapitalgymnastics.com
SUMMARY:Indoor Park
DESCRIPTION:Indoor Park for kids ages 0-7 yearsEvery Monday 9:30 – 11am and Saturday 8:30 – 10am \nFirst Child – $12 (tax included)Siblings – $8 (tax included)Please ask the office about our punch cards to earn a free day.
URL:https://applecapitalgymnastics.com/event/indoor-park-120/
LOCATION:Apple Capital Gymnastics\, 230 S. Columbia St. #3\, Wenatchee\, WA\, 98801\, United States
CATEGORIES:Indoor Parks
END:VEVENT
BEGIN:VEVENT
DTSTART;TZID=America/Los_Angeles:20260413T093000
DTEND;TZID=America/Los_Angeles:20260413T110000
DTSTAMP:20260423T122835
CREATED:20250717T235605Z
LAST-MODIFIED:20250717T235605Z
UID:4793-1776072600-1776078000@applecapitalgymnastics.com
SUMMARY:Indoor Park
DESCRIPTION:Indoor Park for kids ages 0-7 yearsEvery Monday 9:30 – 11am and Saturday 8:30 – 10am \nFirst Child – $12 (tax included)Siblings – $8 (tax included)Please ask the office about our punch cards to earn a free day.
URL:https://applecapitalgymnastics.com/event/indoor-park-83/
LOCATION:Apple Capital Gymnastics\, 230 S. Columbia St. #3\, Wenatchee\, WA\, 98801\, United States
CATEGORIES:Indoor Parks
END:VEVENT
BEGIN:VEVENT
DTSTART;TZID=America/Los_Angeles:20260411T083000
DTEND;TZID=America/Los_Angeles:20260411T100000
DTSTAMP:20260423T122835
CREATED:20250722T210910Z
LAST-MODIFIED:20250722T210910Z
UID:4891-1775896200-1775901600@applecapitalgymnastics.com
SUMMARY:Indoor Park
DESCRIPTION:Indoor Park for kids ages 0-7 yearsEvery Monday 9:30 – 11am and Saturday 8:30 – 10am \nFirst Child – $12 (tax included)Siblings – $8 (tax included)Please ask the office about our punch cards to earn a free day.
URL:https://applecapitalgymnastics.com/event/indoor-park-119/
LOCATION:Apple Capital Gymnastics\, 230 S. Columbia St. #3\, Wenatchee\, WA\, 98801\, United States
CATEGORIES:Indoor Parks
END:VEVENT
BEGIN:VEVENT
DTSTART;TZID=America/Los_Angeles:20260406T093000
DTEND;TZID=America/Los_Angeles:20260406T110000
DTSTAMP:20260423T122835
CREATED:20250717T235605Z
LAST-MODIFIED:20250717T235605Z
UID:4792-1775467800-1775473200@applecapitalgymnastics.com
SUMMARY:Indoor Park
DESCRIPTION:Indoor Park for kids ages 0-7 yearsEvery Monday 9:30 – 11am and Saturday 8:30 – 10am \nFirst Child – $12 (tax included)Siblings – $8 (tax included)Please ask the office about our punch cards to earn a free day.
URL:https://applecapitalgymnastics.com/event/indoor-park-82/
LOCATION:Apple Capital Gymnastics\, 230 S. Columbia St. #3\, Wenatchee\, WA\, 98801\, United States
CATEGORIES:Indoor Parks
END:VEVENT
BEGIN:VEVENT
DTSTART;TZID=America/Los_Angeles:20260404T083000
DTEND;TZID=America/Los_Angeles:20260404T100000
DTSTAMP:20260423T122835
CREATED:20250722T210713Z
LAST-MODIFIED:20250722T210713Z
UID:4890-1775291400-1775296800@applecapitalgymnastics.com
SUMMARY:Indoor Park
DESCRIPTION:Indoor Park for kids ages 0-7 yearsEvery Monday 9:30 – 11am and Saturday 8:30 – 10am \nFirst Child – $12 (tax included)Siblings – $8 (tax included)Please ask the office about our punch cards to earn a free day.
URL:https://applecapitalgymnastics.com/event/indoor-park-118/
LOCATION:Apple Capital Gymnastics\, 230 S. Columbia St. #3\, Wenatchee\, WA\, 98801\, United States
CATEGORIES:Indoor Parks
END:VEVENT
BEGIN:VEVENT
DTSTART;TZID=America/Los_Angeles:20260330T093000
DTEND;TZID=America/Los_Angeles:20260330T110000
DTSTAMP:20260423T122835
CREATED:20250717T235553Z
LAST-MODIFIED:20250717T235553Z
UID:4791-1774863000-1774868400@applecapitalgymnastics.com
SUMMARY:Indoor Park
DESCRIPTION:Indoor Park for kids ages 0-7 yearsEvery Monday 9:30 – 11am and Saturday 8:30 – 10am \nFirst Child – $12 (tax included)Siblings – $8 (tax included)Please ask the office about our punch cards to earn a free day.
URL:https://applecapitalgymnastics.com/event/indoor-park-81/
LOCATION:Apple Capital Gymnastics\, 230 S. Columbia St. #3\, Wenatchee\, WA\, 98801\, United States
CATEGORIES:Indoor Parks
END:VEVENT
BEGIN:VEVENT
DTSTART;TZID=America/Los_Angeles:20260328T083000
DTEND;TZID=America/Los_Angeles:20260328T100000
DTSTAMP:20260423T122835
CREATED:20250722T210712Z
LAST-MODIFIED:20250722T210712Z
UID:4889-1774686600-1774692000@applecapitalgymnastics.com
SUMMARY:Indoor Park
DESCRIPTION:Indoor Park for kids ages 0-7 yearsEvery Monday 9:30 – 11am and Saturday 8:30 – 10am \nFirst Child – $12 (tax included)Siblings – $8 (tax included)Please ask the office about our punch cards to earn a free day.
URL:https://applecapitalgymnastics.com/event/indoor-park-117/
LOCATION:Apple Capital Gymnastics\, 230 S. Columbia St. #3\, Wenatchee\, WA\, 98801\, United States
CATEGORIES:Indoor Parks
END:VEVENT
BEGIN:VEVENT
DTSTART;TZID=America/Los_Angeles:20260323T093000
DTEND;TZID=America/Los_Angeles:20260323T110000
DTSTAMP:20260423T122835
CREATED:20250717T235553Z
LAST-MODIFIED:20250717T235553Z
UID:4790-1774258200-1774263600@applecapitalgymnastics.com
SUMMARY:Indoor Park
DESCRIPTION:Indoor Park for kids ages 0-7 yearsEvery Monday 9:30 – 11am and Saturday 8:30 – 10am \nFirst Child – $12 (tax included)Siblings – $8 (tax included)Please ask the office about our punch cards to earn a free day.
URL:https://applecapitalgymnastics.com/event/indoor-park-80/
LOCATION:Apple Capital Gymnastics\, 230 S. Columbia St. #3\, Wenatchee\, WA\, 98801\, United States
CATEGORIES:Indoor Parks
END:VEVENT
BEGIN:VEVENT
DTSTART;TZID=America/Los_Angeles:20260321T083000
DTEND;TZID=America/Los_Angeles:20260321T100000
DTSTAMP:20260423T122835
CREATED:20250722T210712Z
LAST-MODIFIED:20250722T210712Z
UID:4888-1774081800-1774087200@applecapitalgymnastics.com
SUMMARY:Indoor Park
DESCRIPTION:Indoor Park for kids ages 0-7 yearsEvery Monday 9:30 – 11am and Saturday 8:30 – 10am \nFirst Child – $12 (tax included)Siblings – $8 (tax included)Please ask the office about our punch cards to earn a free day.
URL:https://applecapitalgymnastics.com/event/indoor-park-116/
LOCATION:Apple Capital Gymnastics\, 230 S. Columbia St. #3\, Wenatchee\, WA\, 98801\, United States
CATEGORIES:Indoor Parks
END:VEVENT
BEGIN:VEVENT
DTSTART;TZID=America/Los_Angeles:20260316T093000
DTEND;TZID=America/Los_Angeles:20260316T110000
DTSTAMP:20260423T122835
CREATED:20250717T235552Z
LAST-MODIFIED:20250717T235552Z
UID:4789-1773653400-1773658800@applecapitalgymnastics.com
SUMMARY:Indoor Park
DESCRIPTION:Indoor Park for kids ages 0-7 yearsEvery Monday 9:30 – 11am and Saturday 8:30 – 10am \nFirst Child – $12 (tax included)Siblings – $8 (tax included)Please ask the office about our punch cards to earn a free day.
URL:https://applecapitalgymnastics.com/event/indoor-park-79/
LOCATION:Apple Capital Gymnastics\, 230 S. Columbia St. #3\, Wenatchee\, WA\, 98801\, United States
CATEGORIES:Indoor Parks
END:VEVENT
BEGIN:VEVENT
DTSTART;TZID=America/Los_Angeles:20260314T083000
DTEND;TZID=America/Los_Angeles:20260314T100000
DTSTAMP:20260423T122835
CREATED:20250722T210711Z
LAST-MODIFIED:20260214T165440Z
UID:4887-1773477000-1773482400@applecapitalgymnastics.com
SUMMARY:Indoor Park
DESCRIPTION:Indoor park is cancelled today for an all-day assessment camp. \n\n\n\nCheck our calendar for other Indoor Park times.Usually every Monday 9:30 – 11am and Saturday 8:30 – 10am
URL:https://applecapitalgymnastics.com/event/indoor-park-115/
LOCATION:WA
CATEGORIES:Indoor Parks
END:VEVENT
BEGIN:VEVENT
DTSTART;TZID=America/Los_Angeles:20260309T093000
DTEND;TZID=America/Los_Angeles:20260309T110000
DTSTAMP:20260423T122835
CREATED:20250717T235551Z
LAST-MODIFIED:20250717T235551Z
UID:4788-1773048600-1773054000@applecapitalgymnastics.com
SUMMARY:Indoor Park
DESCRIPTION:Indoor Park for kids ages 0-7 yearsEvery Monday 9:30 – 11am and Saturday 8:30 – 10am \nFirst Child – $12 (tax included)Siblings – $8 (tax included)Please ask the office about our punch cards to earn a free day.
URL:https://applecapitalgymnastics.com/event/indoor-park-78/
LOCATION:Apple Capital Gymnastics\, 230 S. Columbia St. #3\, Wenatchee\, WA\, 98801\, United States
CATEGORIES:Indoor Parks
END:VEVENT
BEGIN:VEVENT
DTSTART;TZID=America/Los_Angeles:20260307T083000
DTEND;TZID=America/Los_Angeles:20260307T100000
DTSTAMP:20260423T122835
CREATED:20250722T210710Z
LAST-MODIFIED:20250722T210710Z
UID:4886-1772872200-1772877600@applecapitalgymnastics.com
SUMMARY:Indoor Park
DESCRIPTION:Indoor Park for kids ages 0-7 yearsEvery Monday 9:30 – 11am and Saturday 8:30 – 10am \nFirst Child – $12 (tax included)Siblings – $8 (tax included)Please ask the office about our punch cards to earn a free day.
URL:https://applecapitalgymnastics.com/event/indoor-park-114/
LOCATION:Apple Capital Gymnastics\, 230 S. Columbia St. #3\, Wenatchee\, WA\, 98801\, United States
CATEGORIES:Indoor Parks
END:VEVENT
BEGIN:VEVENT
DTSTART;TZID=America/Los_Angeles:20260302T093000
DTEND;TZID=America/Los_Angeles:20260302T110000
DTSTAMP:20260423T122835
CREATED:20250717T235550Z
LAST-MODIFIED:20250717T235550Z
UID:4787-1772443800-1772449200@applecapitalgymnastics.com
SUMMARY:Indoor Park
DESCRIPTION:Indoor Park for kids ages 0-7 yearsEvery Monday 9:30 – 11am and Saturday 8:30 – 10am \nFirst Child – $12 (tax included)Siblings – $8 (tax included)Please ask the office about our punch cards to earn a free day.
URL:https://applecapitalgymnastics.com/event/indoor-park-77/
LOCATION:Apple Capital Gymnastics\, 230 S. Columbia St. #3\, Wenatchee\, WA\, 98801\, United States
CATEGORIES:Indoor Parks
END:VEVENT
BEGIN:VEVENT
DTSTART;TZID=America/Los_Angeles:20260228T083000
DTEND;TZID=America/Los_Angeles:20260228T100000
DTSTAMP:20260423T122835
CREATED:20250722T210512Z
LAST-MODIFIED:20250722T210512Z
UID:4885-1772267400-1772272800@applecapitalgymnastics.com
SUMMARY:Indoor Park
DESCRIPTION:Indoor Park for kids ages 0-7 yearsEvery Monday 9:30 – 11am and Saturday 8:30 – 10am \nFirst Child – $12 (tax included)Siblings – $8 (tax included)Please ask the office about our punch cards to earn a free day.
URL:https://applecapitalgymnastics.com/event/indoor-park-113/
LOCATION:Apple Capital Gymnastics\, 230 S. Columbia St. #3\, Wenatchee\, WA\, 98801\, United States
CATEGORIES:Indoor Parks
END:VEVENT
BEGIN:VEVENT
DTSTART;TZID=America/Los_Angeles:20260223T093000
DTEND;TZID=America/Los_Angeles:20260223T110000
DTSTAMP:20260423T122835
CREATED:20250717T235538Z
LAST-MODIFIED:20250717T235538Z
UID:4786-1771839000-1771844400@applecapitalgymnastics.com
SUMMARY:Indoor Park
DESCRIPTION:Indoor Park for kids ages 0-7 yearsEvery Monday 9:30 – 11am and Saturday 8:30 – 10am \nFirst Child – $12 (tax included)Siblings – $8 (tax included)Please ask the office about our punch cards to earn a free day.
URL:https://applecapitalgymnastics.com/event/indoor-park-76/
LOCATION:Apple Capital Gymnastics\, 230 S. Columbia St. #3\, Wenatchee\, WA\, 98801\, United States
CATEGORIES:Indoor Parks
END:VEVENT
BEGIN:VEVENT
DTSTART;TZID=America/Los_Angeles:20260221T083000
DTEND;TZID=America/Los_Angeles:20260221T100000
DTSTAMP:20260423T122835
CREATED:20250722T210511Z
LAST-MODIFIED:20250722T210511Z
UID:4884-1771662600-1771668000@applecapitalgymnastics.com
SUMMARY:Indoor Park
DESCRIPTION:Indoor Park for kids ages 0-7 yearsEvery Monday 9:30 – 11am and Saturday 8:30 – 10am \nFirst Child – $12 (tax included)Siblings – $8 (tax included)Please ask the office about our punch cards to earn a free day.
URL:https://applecapitalgymnastics.com/event/indoor-park-112/
LOCATION:Apple Capital Gymnastics\, 230 S. Columbia St. #3\, Wenatchee\, WA\, 98801\, United States
CATEGORIES:Indoor Parks
END:VEVENT
BEGIN:VEVENT
DTSTART;TZID=America/Los_Angeles:20260216T093000
DTEND;TZID=America/Los_Angeles:20260216T110000
DTSTAMP:20260423T122835
CREATED:20250717T235537Z
LAST-MODIFIED:20250717T235537Z
UID:4785-1771234200-1771239600@applecapitalgymnastics.com
SUMMARY:Indoor Park
DESCRIPTION:Indoor Park for kids ages 0-7 yearsEvery Monday 9:30 – 11am and Saturday 8:30 – 10am \nFirst Child – $12 (tax included)Siblings – $8 (tax included)Please ask the office about our punch cards to earn a free day.
URL:https://applecapitalgymnastics.com/event/indoor-park-75/
LOCATION:Apple Capital Gymnastics\, 230 S. Columbia St. #3\, Wenatchee\, WA\, 98801\, United States
CATEGORIES:Indoor Parks
END:VEVENT
BEGIN:VEVENT
DTSTART;TZID=America/Los_Angeles:20260209T093000
DTEND;TZID=America/Los_Angeles:20260209T110000
DTSTAMP:20260423T122835
CREATED:20250717T235536Z
LAST-MODIFIED:20250717T235536Z
UID:4784-1770629400-1770634800@applecapitalgymnastics.com
SUMMARY:Indoor Park
DESCRIPTION:Indoor Park for kids ages 0-7 yearsEvery Monday 9:30 – 11am and Saturday 8:30 – 10am \nFirst Child – $12 (tax included)Siblings – $8 (tax included)Please ask the office about our punch cards to earn a free day.
URL:https://applecapitalgymnastics.com/event/indoor-park-74/
LOCATION:Apple Capital Gymnastics\, 230 S. Columbia St. #3\, Wenatchee\, WA\, 98801\, United States
CATEGORIES:Indoor Parks
END:VEVENT
BEGIN:VEVENT
DTSTART;TZID=America/Los_Angeles:20260207T083000
DTEND;TZID=America/Los_Angeles:20260207T100000
DTSTAMP:20260423T122835
CREATED:20250722T210510Z
LAST-MODIFIED:20250722T210510Z
UID:4882-1770453000-1770458400@applecapitalgymnastics.com
SUMMARY:Indoor Park
DESCRIPTION:Indoor Park for kids ages 0-7 yearsEvery Monday 9:30 – 11am and Saturday 8:30 – 10am \nFirst Child – $12 (tax included)Siblings – $8 (tax included)Please ask the office about our punch cards to earn a free day.
URL:https://applecapitalgymnastics.com/event/indoor-park-110/
LOCATION:Apple Capital Gymnastics\, 230 S. Columbia St. #3\, Wenatchee\, WA\, 98801\, United States
CATEGORIES:Indoor Parks
END:VEVENT
BEGIN:VEVENT
DTSTART;TZID=America/Los_Angeles:20260202T093000
DTEND;TZID=America/Los_Angeles:20260202T110000
DTSTAMP:20260423T122835
CREATED:20250717T235535Z
LAST-MODIFIED:20250717T235535Z
UID:4783-1770024600-1770030000@applecapitalgymnastics.com
SUMMARY:Indoor Park
DESCRIPTION:Indoor Park for kids ages 0-7 yearsEvery Monday 9:30 – 11am and Saturday 8:30 – 10am \nFirst Child – $12 (tax included)Siblings – $8 (tax included)Please ask the office about our punch cards to earn a free day.
URL:https://applecapitalgymnastics.com/event/indoor-park-73/
LOCATION:Apple Capital Gymnastics\, 230 S. Columbia St. #3\, Wenatchee\, WA\, 98801\, United States
CATEGORIES:Indoor Parks
END:VEVENT
BEGIN:VEVENT
DTSTART;TZID=America/Los_Angeles:20260131T083000
DTEND;TZID=America/Los_Angeles:20260131T100000
DTSTAMP:20260423T122835
CREATED:20250722T210509Z
LAST-MODIFIED:20250722T210509Z
UID:4881-1769848200-1769853600@applecapitalgymnastics.com
SUMMARY:Indoor Park
DESCRIPTION:Indoor Park for kids ages 0-7 yearsEvery Monday 9:30 – 11am and Saturday 8:30 – 10am \nFirst Child – $12 (tax included)Siblings – $8 (tax included)Please ask the office about our punch cards to earn a free day.
URL:https://applecapitalgymnastics.com/event/indoor-park-109/
LOCATION:Apple Capital Gymnastics\, 230 S. Columbia St. #3\, Wenatchee\, WA\, 98801\, United States
CATEGORIES:Indoor Parks
END:VEVENT
BEGIN:VEVENT
DTSTART;TZID=America/Los_Angeles:20260126T093000
DTEND;TZID=America/Los_Angeles:20260126T110000
DTSTAMP:20260423T122835
CREATED:20250717T235534Z
LAST-MODIFIED:20250717T235534Z
UID:4782-1769419800-1769425200@applecapitalgymnastics.com
SUMMARY:Indoor Park
DESCRIPTION:Indoor Park for kids ages 0-7 yearsEvery Monday 9:30 – 11am and Saturday 8:30 – 10am \nFirst Child – $12 (tax included)Siblings – $8 (tax included)Please ask the office about our punch cards to earn a free day.
URL:https://applecapitalgymnastics.com/event/indoor-park-72/
LOCATION:Apple Capital Gymnastics\, 230 S. Columbia St. #3\, Wenatchee\, WA\, 98801\, United States
CATEGORIES:Indoor Parks
END:VEVENT
BEGIN:VEVENT
DTSTART;TZID=America/Los_Angeles:20260124T083000
DTEND;TZID=America/Los_Angeles:20260124T100000
DTSTAMP:20260423T122835
CREATED:20250722T210310Z
LAST-MODIFIED:20250722T210310Z
UID:4880-1769243400-1769248800@applecapitalgymnastics.com
SUMMARY:Indoor Park
DESCRIPTION:Indoor Park for kids ages 0-7 yearsEvery Monday 9:30 – 11am and Saturday 8:30 – 10am \nFirst Child – $12 (tax included)Siblings – $8 (tax included)Please ask the office about our punch cards to earn a free day.
URL:https://applecapitalgymnastics.com/event/indoor-park-108/
LOCATION:Apple Capital Gymnastics\, 230 S. Columbia St. #3\, Wenatchee\, WA\, 98801\, United States
CATEGORIES:Indoor Parks
END:VEVENT
BEGIN:VEVENT
DTSTART;TZID=America/Los_Angeles:20260119T093000
DTEND;TZID=America/Los_Angeles:20260119T110000
DTSTAMP:20260423T122835
CREATED:20250717T235523Z
LAST-MODIFIED:20250717T235523Z
UID:4781-1768815000-1768820400@applecapitalgymnastics.com
SUMMARY:Indoor Park
DESCRIPTION:Indoor Park for kids ages 0-7 yearsEvery Monday 9:30 – 11am and Saturday 8:30 – 10am \nFirst Child – $12 (tax included)Siblings – $8 (tax included)Please ask the office about our punch cards to earn a free day.
URL:https://applecapitalgymnastics.com/event/indoor-park-71/
LOCATION:Apple Capital Gymnastics\, 230 S. Columbia St. #3\, Wenatchee\, WA\, 98801\, United States
CATEGORIES:Indoor Parks
END:VEVENT
BEGIN:VEVENT
DTSTART;TZID=America/Los_Angeles:20260117T083000
DTEND;TZID=America/Los_Angeles:20260117T100000
DTSTAMP:20260423T122835
CREATED:20250722T210310Z
LAST-MODIFIED:20250722T210310Z
UID:4879-1768638600-1768644000@applecapitalgymnastics.com
SUMMARY:Indoor Park
DESCRIPTION:Indoor Park for kids ages 0-7 yearsEvery Monday 9:30 – 11am and Saturday 8:30 – 10am \nFirst Child – $12 (tax included)Siblings – $8 (tax included)Please ask the office about our punch cards to earn a free day.
URL:https://applecapitalgymnastics.com/event/indoor-park-107/
LOCATION:Apple Capital Gymnastics\, 230 S. Columbia St. #3\, Wenatchee\, WA\, 98801\, United States
CATEGORIES:Indoor Parks
END:VEVENT
BEGIN:VEVENT
DTSTART;TZID=America/Los_Angeles:20260112T093000
DTEND;TZID=America/Los_Angeles:20260112T110000
DTSTAMP:20260423T122835
CREATED:20250717T235522Z
LAST-MODIFIED:20250717T235522Z
UID:4780-1768210200-1768215600@applecapitalgymnastics.com
SUMMARY:Indoor Park
DESCRIPTION:Indoor Park for kids ages 0-7 yearsEvery Monday 9:30 – 11am and Saturday 8:30 – 10am \nFirst Child – $12 (tax included)Siblings – $8 (tax included)Please ask the office about our punch cards to earn a free day.
URL:https://applecapitalgymnastics.com/event/indoor-park-70/
LOCATION:Apple Capital Gymnastics\, 230 S. Columbia St. #3\, Wenatchee\, WA\, 98801\, United States
CATEGORIES:Indoor Parks
END:VEVENT
BEGIN:VEVENT
DTSTART;TZID=America/Los_Angeles:20260110T083000
DTEND;TZID=America/Los_Angeles:20260110T100000
DTSTAMP:20260423T122835
CREATED:20250722T210309Z
LAST-MODIFIED:20250722T210309Z
UID:4878-1768033800-1768039200@applecapitalgymnastics.com
SUMMARY:Indoor Park
DESCRIPTION:Indoor Park for kids ages 0-7 yearsEvery Monday 9:30 – 11am and Saturday 8:30 – 10am \nFirst Child – $12 (tax included)Siblings – $8 (tax included)Please ask the office about our punch cards to earn a free day.
URL:https://applecapitalgymnastics.com/event/indoor-park-106/
LOCATION:Apple Capital Gymnastics\, 230 S. Columbia St. #3\, Wenatchee\, WA\, 98801\, United States
CATEGORIES:Indoor Parks
END:VEVENT
BEGIN:VEVENT
DTSTART;TZID=America/Los_Angeles:20260105T093000
DTEND;TZID=America/Los_Angeles:20260105T110000
DTSTAMP:20260423T122835
CREATED:20250717T235521Z
LAST-MODIFIED:20250717T235521Z
UID:4779-1767605400-1767610800@applecapitalgymnastics.com
SUMMARY:Indoor Park
DESCRIPTION:Indoor Park for kids ages 0-7 yearsEvery Monday 9:30 – 11am and Saturday 8:30 – 10am \nFirst Child – $12 (tax included)Siblings – $8 (tax included)Please ask the office about our punch cards to earn a free day.
URL:https://applecapitalgymnastics.com/event/indoor-park-69/
LOCATION:Apple Capital Gymnastics\, 230 S. Columbia St. #3\, Wenatchee\, WA\, 98801\, United States
CATEGORIES:Indoor Parks
END:VEVENT
END:VCALENDAR