BEGIN:VCALENDAR
VERSION:2.0
PRODID:-//Apple Capital Gymnastics - ECPv6.15.20//NONSGML v1.0//EN
CALSCALE:GREGORIAN
METHOD:PUBLISH
X-WR-CALNAME:Apple Capital Gymnastics
X-ORIGINAL-URL:https://applecapitalgymnastics.com
X-WR-CALDESC:Events for Apple Capital Gymnastics
REFRESH-INTERVAL;VALUE=DURATION:PT1H
X-Robots-Tag:noindex
X-PUBLISHED-TTL:PT1H
BEGIN:VTIMEZONE
TZID:America/Los_Angeles
BEGIN:DAYLIGHT
TZOFFSETFROM:-0800
TZOFFSETTO:-0700
TZNAME:PDT
DTSTART:20240310T100000
END:DAYLIGHT
BEGIN:STANDARD
TZOFFSETFROM:-0700
TZOFFSETTO:-0800
TZNAME:PST
DTSTART:20241103T090000
END:STANDARD
BEGIN:DAYLIGHT
TZOFFSETFROM:-0800
TZOFFSETTO:-0700
TZNAME:PDT
DTSTART:20250309T100000
END:DAYLIGHT
BEGIN:STANDARD
TZOFFSETFROM:-0700
TZOFFSETTO:-0800
TZNAME:PST
DTSTART:20251102T090000
END:STANDARD
BEGIN:DAYLIGHT
TZOFFSETFROM:-0800
TZOFFSETTO:-0700
TZNAME:PDT
DTSTART:20260308T100000
END:DAYLIGHT
BEGIN:STANDARD
TZOFFSETFROM:-0700
TZOFFSETTO:-0800
TZNAME:PST
DTSTART:20261101T090000
END:STANDARD
END:VTIMEZONE
BEGIN:VEVENT
DTSTART;TZID=America/Los_Angeles:20251129T083000
DTEND;TZID=America/Los_Angeles:20251129T100000
DTSTAMP:20260423T165628
CREATED:20250722T210252Z
LAST-MODIFIED:20250722T210252Z
UID:4872-1764405000-1764410400@applecapitalgymnastics.com
SUMMARY:Indoor Park
DESCRIPTION:Indoor Park for kids ages 0-7 yearsEvery Monday 9:30 – 11am and Saturday 8:30 – 10am \nFirst Child – $12 (tax included)Siblings – $8 (tax included)Please ask the office about our punch cards to earn a free day.
URL:https://applecapitalgymnastics.com/event/indoor-park-100/
LOCATION:Apple Capital Gymnastics\, 230 S. Columbia St. #3\, Wenatchee\, WA\, 98801\, United States
CATEGORIES:Indoor Parks
END:VEVENT
BEGIN:VEVENT
DTSTART;TZID=America/Los_Angeles:20251126T000000
DTEND;TZID=America/Los_Angeles:20251128T235959
DTSTAMP:20260423T165628
CREATED:20250819T144149Z
LAST-MODIFIED:20250819T144703Z
UID:5195-1764115200-1764374399@applecapitalgymnastics.com
SUMMARY:CLOSED - Thanksgiving Break
DESCRIPTION:Closed for Thanksgiving Break. No classes.
URL:https://applecapitalgymnastics.com/event/closed-thanksgiving/
CATEGORIES:Notices
END:VEVENT
BEGIN:VEVENT
DTSTART;TZID=America/Los_Angeles:20251124T093000
DTEND;TZID=America/Los_Angeles:20251124T110000
DTSTAMP:20260423T165628
CREATED:20250717T235505Z
LAST-MODIFIED:20250717T235505Z
UID:4773-1763976600-1763982000@applecapitalgymnastics.com
SUMMARY:Indoor Park
DESCRIPTION:Indoor Park for kids ages 0-7 yearsEvery Monday 9:30 – 11am and Saturday 8:30 – 10am \nFirst Child – $12 (tax included)Siblings – $8 (tax included)Please ask the office about our punch cards to earn a free day.
URL:https://applecapitalgymnastics.com/event/indoor-park-63/
LOCATION:Apple Capital Gymnastics\, 230 S. Columbia St. #3\, Wenatchee\, WA\, 98801\, United States
CATEGORIES:Indoor Parks
END:VEVENT
BEGIN:VEVENT
DTSTART;TZID=America/Los_Angeles:20251122T083000
DTEND;TZID=America/Los_Angeles:20251122T100000
DTSTAMP:20260423T165628
CREATED:20250722T210252Z
LAST-MODIFIED:20250722T210252Z
UID:4871-1763800200-1763805600@applecapitalgymnastics.com
SUMMARY:Indoor Park
DESCRIPTION:Indoor Park for kids ages 0-7 yearsEvery Monday 9:30 – 11am and Saturday 8:30 – 10am \nFirst Child – $12 (tax included)Siblings – $8 (tax included)Please ask the office about our punch cards to earn a free day.
URL:https://applecapitalgymnastics.com/event/indoor-park-99/
LOCATION:Apple Capital Gymnastics\, 230 S. Columbia St. #3\, Wenatchee\, WA\, 98801\, United States
CATEGORIES:Indoor Parks
END:VEVENT
BEGIN:VEVENT
DTSTART;TZID=America/Los_Angeles:20251117T093000
DTEND;TZID=America/Los_Angeles:20251117T110000
DTSTAMP:20260423T165628
CREATED:20250717T235505Z
LAST-MODIFIED:20250717T235505Z
UID:4772-1763371800-1763377200@applecapitalgymnastics.com
SUMMARY:Indoor Park
DESCRIPTION:Indoor Park for kids ages 0-7 yearsEvery Monday 9:30 – 11am and Saturday 8:30 – 10am \nFirst Child – $12 (tax included)Siblings – $8 (tax included)Please ask the office about our punch cards to earn a free day.
URL:https://applecapitalgymnastics.com/event/indoor-park-62/
LOCATION:Apple Capital Gymnastics\, 230 S. Columbia St. #3\, Wenatchee\, WA\, 98801\, United States
CATEGORIES:Indoor Parks
END:VEVENT
BEGIN:VEVENT
DTSTART;TZID=America/Los_Angeles:20251115T083000
DTEND;TZID=America/Los_Angeles:20251115T100000
DTSTAMP:20260423T165628
CREATED:20250722T210239Z
LAST-MODIFIED:20250722T210239Z
UID:4870-1763195400-1763200800@applecapitalgymnastics.com
SUMMARY:Indoor Park
DESCRIPTION:Indoor Park for kids ages 0-7 yearsEvery Monday 9:30 – 11am and Saturday 8:30 – 10am \nFirst Child – $12 (tax included)Siblings – $8 (tax included)Please ask the office about our punch cards to earn a free day.
URL:https://applecapitalgymnastics.com/event/indoor-park-98/
LOCATION:Apple Capital Gymnastics\, 230 S. Columbia St. #3\, Wenatchee\, WA\, 98801\, United States
CATEGORIES:Indoor Parks
END:VEVENT
BEGIN:VEVENT
DTSTART;TZID=America/Los_Angeles:20251110T093000
DTEND;TZID=America/Los_Angeles:20251110T110000
DTSTAMP:20260423T165628
CREATED:20250717T235452Z
LAST-MODIFIED:20250717T235452Z
UID:4771-1762767000-1762772400@applecapitalgymnastics.com
SUMMARY:Indoor Park
DESCRIPTION:Indoor Park for kids ages 0-7 yearsEvery Monday 9:30 – 11am and Saturday 8:30 – 10am \nFirst Child – $12 (tax included)Siblings – $8 (tax included)Please ask the office about our punch cards to earn a free day.
URL:https://applecapitalgymnastics.com/event/indoor-park-61/
LOCATION:Apple Capital Gymnastics\, 230 S. Columbia St. #3\, Wenatchee\, WA\, 98801\, United States
CATEGORIES:Indoor Parks
END:VEVENT
BEGIN:VEVENT
DTSTART;TZID=America/Los_Angeles:20251108T083000
DTEND;TZID=America/Los_Angeles:20251108T100000
DTSTAMP:20260423T165628
CREATED:20250722T210238Z
LAST-MODIFIED:20250722T210238Z
UID:4869-1762590600-1762596000@applecapitalgymnastics.com
SUMMARY:Indoor Park
DESCRIPTION:Indoor Park for kids ages 0-7 yearsEvery Monday 9:30 – 11am and Saturday 8:30 – 10am \nFirst Child – $12 (tax included)Siblings – $8 (tax included)Please ask the office about our punch cards to earn a free day.
URL:https://applecapitalgymnastics.com/event/indoor-park-97/
LOCATION:Apple Capital Gymnastics\, 230 S. Columbia St. #3\, Wenatchee\, WA\, 98801\, United States
CATEGORIES:Indoor Parks
END:VEVENT
BEGIN:VEVENT
DTSTART;TZID=America/Los_Angeles:20251103T093000
DTEND;TZID=America/Los_Angeles:20251103T110000
DTSTAMP:20260423T165628
CREATED:20250717T235451Z
LAST-MODIFIED:20250717T235451Z
UID:4770-1762162200-1762167600@applecapitalgymnastics.com
SUMMARY:Indoor Park
DESCRIPTION:Indoor Park for kids ages 0-7 yearsEvery Monday 9:30 – 11am and Saturday 8:30 – 10am \nFirst Child – $12 (tax included)Siblings – $8 (tax included)Please ask the office about our punch cards to earn a free day.
URL:https://applecapitalgymnastics.com/event/indoor-park-60/
LOCATION:Apple Capital Gymnastics\, 230 S. Columbia St. #3\, Wenatchee\, WA\, 98801\, United States
CATEGORIES:Indoor Parks
END:VEVENT
BEGIN:VEVENT
DTSTART;TZID=America/Los_Angeles:20251101T083000
DTEND;TZID=America/Los_Angeles:20251101T100000
DTSTAMP:20260423T165628
CREATED:20250722T210237Z
LAST-MODIFIED:20250722T210237Z
UID:4868-1761985800-1761991200@applecapitalgymnastics.com
SUMMARY:Indoor Park
DESCRIPTION:Indoor Park for kids ages 0-7 yearsEvery Monday 9:30 – 11am and Saturday 8:30 – 10am \nFirst Child – $12 (tax included)Siblings – $8 (tax included)Please ask the office about our punch cards to earn a free day.
URL:https://applecapitalgymnastics.com/event/indoor-park-96/
LOCATION:Apple Capital Gymnastics\, 230 S. Columbia St. #3\, Wenatchee\, WA\, 98801\, United States
CATEGORIES:Indoor Parks
END:VEVENT
BEGIN:VEVENT
DTSTART;TZID=America/Los_Angeles:20251031T000000
DTEND;TZID=America/Los_Angeles:20251031T235959
DTSTAMP:20260423T165628
CREATED:20250819T143926Z
LAST-MODIFIED:20250819T143929Z
UID:5193-1761868800-1761955199@applecapitalgymnastics.com
SUMMARY:CLOSED - Halloween
DESCRIPTION:No classes today. Please schedule a make-up day.
URL:https://applecapitalgymnastics.com/event/closed-halloween/
CATEGORIES:Notices
END:VEVENT
BEGIN:VEVENT
DTSTART;TZID=America/Los_Angeles:20251027T093000
DTEND;TZID=America/Los_Angeles:20251027T110000
DTSTAMP:20260423T165628
CREATED:20250717T235451Z
LAST-MODIFIED:20250717T235451Z
UID:4769-1761557400-1761562800@applecapitalgymnastics.com
SUMMARY:Indoor Park
DESCRIPTION:Indoor Park for kids ages 0-7 yearsEvery Monday 9:30 – 11am and Saturday 8:30 – 10am \nFirst Child – $12 (tax included)Siblings – $8 (tax included)Please ask the office about our punch cards to earn a free day.
URL:https://applecapitalgymnastics.com/event/indoor-park-59/
LOCATION:Apple Capital Gymnastics\, 230 S. Columbia St. #3\, Wenatchee\, WA\, 98801\, United States
CATEGORIES:Indoor Parks
END:VEVENT
BEGIN:VEVENT
DTSTART;TZID=America/Los_Angeles:20251025T083000
DTEND;TZID=America/Los_Angeles:20251025T100000
DTSTAMP:20260423T165628
CREATED:20251001T193035Z
LAST-MODIFIED:20260116T000957Z
UID:5464-1761381000-1761386400@applecapitalgymnastics.com
SUMMARY:Halloween Indoor Park
DESCRIPTION:Ages 0-7 \n\n\n\nCome join us for a fun day of indoor play\, costumes\, games\, crafts\, and more!
URL:https://applecapitalgymnastics.com/event/halloween-indoor-park/
LOCATION:Apple Capital Gymnastics\, 230 S. Columbia St. #3\, Wenatchee\, WA\, 98801\, United States
CATEGORIES:Holiday Event
END:VEVENT
BEGIN:VEVENT
DTSTART;TZID=America/Los_Angeles:20251024T190000
DTEND;TZID=America/Los_Angeles:20251024T210000
DTSTAMP:20260423T165628
CREATED:20251001T163927Z
LAST-MODIFIED:20251001T174237Z
UID:5459-1761332400-1761339600@applecapitalgymnastics.com
SUMMARY:Halloween Open Gym
DESCRIPTION:Ages 7-16 Come join the fun and celebrate Halloween at Apple Capital Gymnastics! Costumes\, indoor play\, games\, crafts\, and more! \n\n\n\n$25
URL:https://applecapitalgymnastics.com/event/halloween-open-gym/
LOCATION:Apple Capital Gymnastics\, 230 S. Columbia St. #3\, Wenatchee\, WA\, 98801\, United States
CATEGORIES:Holiday Event
END:VEVENT
BEGIN:VEVENT
DTSTART;TZID=America/Los_Angeles:20251020T093000
DTEND;TZID=America/Los_Angeles:20251020T110000
DTSTAMP:20260423T165628
CREATED:20250717T235450Z
LAST-MODIFIED:20250717T235450Z
UID:4768-1760952600-1760958000@applecapitalgymnastics.com
SUMMARY:Indoor Park
DESCRIPTION:Indoor Park for kids ages 0-7 yearsEvery Monday 9:30 – 11am and Saturday 8:30 – 10am \nFirst Child – $12 (tax included)Siblings – $8 (tax included)Please ask the office about our punch cards to earn a free day.
URL:https://applecapitalgymnastics.com/event/indoor-park-58/
LOCATION:Apple Capital Gymnastics\, 230 S. Columbia St. #3\, Wenatchee\, WA\, 98801\, United States
CATEGORIES:Indoor Parks
END:VEVENT
BEGIN:VEVENT
DTSTART;TZID=America/Los_Angeles:20251018T083000
DTEND;TZID=America/Los_Angeles:20251018T100000
DTSTAMP:20260423T165628
CREATED:20250722T210236Z
LAST-MODIFIED:20250722T210236Z
UID:4866-1760776200-1760781600@applecapitalgymnastics.com
SUMMARY:Indoor Park
DESCRIPTION:Indoor Park for kids ages 0-7 yearsEvery Monday 9:30 – 11am and Saturday 8:30 – 10am \nFirst Child – $12 (tax included)Siblings – $8 (tax included)Please ask the office about our punch cards to earn a free day.
URL:https://applecapitalgymnastics.com/event/indoor-park-94/
LOCATION:Apple Capital Gymnastics\, 230 S. Columbia St. #3\, Wenatchee\, WA\, 98801\, United States
CATEGORIES:Indoor Parks
END:VEVENT
BEGIN:VEVENT
DTSTART;TZID=America/Los_Angeles:20251013T093000
DTEND;TZID=America/Los_Angeles:20251013T110000
DTSTAMP:20260423T165628
CREATED:20250717T235449Z
LAST-MODIFIED:20250717T235449Z
UID:4767-1760347800-1760353200@applecapitalgymnastics.com
SUMMARY:Indoor Park
DESCRIPTION:Indoor Park for kids ages 0-7 yearsEvery Monday 9:30 – 11am and Saturday 8:30 – 10am \nFirst Child – $12 (tax included)Siblings – $8 (tax included)Please ask the office about our punch cards to earn a free day.
URL:https://applecapitalgymnastics.com/event/indoor-park-27/
LOCATION:Apple Capital Gymnastics\, 230 S. Columbia St. #3\, Wenatchee\, WA\, 98801\, United States
CATEGORIES:Indoor Parks
END:VEVENT
BEGIN:VEVENT
DTSTART;TZID=America/Los_Angeles:20251011T083000
DTEND;TZID=America/Los_Angeles:20251011T100000
DTSTAMP:20260423T165628
CREATED:20250722T210232Z
LAST-MODIFIED:20250722T210232Z
UID:4865-1760171400-1760176800@applecapitalgymnastics.com
SUMMARY:Indoor Park
DESCRIPTION:Indoor Park for kids ages 0-7 yearsEvery Monday 9:30 – 11am and Saturday 8:30 – 10am \nFirst Child – $12 (tax included)Siblings – $8 (tax included)Please ask the office about our punch cards to earn a free day.
URL:https://applecapitalgymnastics.com/event/indoor-park-93/
LOCATION:Apple Capital Gymnastics\, 230 S. Columbia St. #3\, Wenatchee\, WA\, 98801\, United States
CATEGORIES:Indoor Parks
END:VEVENT
BEGIN:VEVENT
DTSTART;TZID=America/Los_Angeles:20251006T093000
DTEND;TZID=America/Los_Angeles:20251006T110000
DTSTAMP:20260423T165628
CREATED:20250717T235445Z
LAST-MODIFIED:20250717T235445Z
UID:4766-1759743000-1759748400@applecapitalgymnastics.com
SUMMARY:Indoor Park
DESCRIPTION:Indoor Park for kids ages 0-7 yearsEvery Monday 9:30 – 11am and Saturday 8:30 – 10am \nFirst Child – $12 (tax included)Siblings – $8 (tax included)Please ask the office about our punch cards to earn a free day.
URL:https://applecapitalgymnastics.com/event/indoor-park-26/
LOCATION:Apple Capital Gymnastics\, 230 S. Columbia St. #3\, Wenatchee\, WA\, 98801\, United States
CATEGORIES:Indoor Parks
END:VEVENT
BEGIN:VEVENT
DTSTART;TZID=America/Los_Angeles:20251004T083000
DTEND;TZID=America/Los_Angeles:20251004T100000
DTSTAMP:20260423T165628
CREATED:20250722T210231Z
LAST-MODIFIED:20250722T210231Z
UID:4864-1759566600-1759572000@applecapitalgymnastics.com
SUMMARY:Indoor Park
DESCRIPTION:Indoor Park for kids ages 0-7 yearsEvery Monday 9:30 – 11am and Saturday 8:30 – 10am \nFirst Child – $12 (tax included)Siblings – $8 (tax included)Please ask the office about our punch cards to earn a free day.
URL:https://applecapitalgymnastics.com/event/indoor-park-92/
LOCATION:Apple Capital Gymnastics\, 230 S. Columbia St. #3\, Wenatchee\, WA\, 98801\, United States
CATEGORIES:Indoor Parks
END:VEVENT
BEGIN:VEVENT
DTSTART;TZID=America/Los_Angeles:20250929T093000
DTEND;TZID=America/Los_Angeles:20250929T110000
DTSTAMP:20260423T165628
CREATED:20250717T235444Z
LAST-MODIFIED:20250717T235444Z
UID:4765-1759138200-1759143600@applecapitalgymnastics.com
SUMMARY:Indoor Park
DESCRIPTION:Indoor Park for kids ages 0-7 yearsEvery Monday 9:30 – 11am and Saturday 8:30 – 10am \nFirst Child – $12 (tax included)Siblings – $8 (tax included)Please ask the office about our punch cards to earn a free day.
URL:https://applecapitalgymnastics.com/event/indoor-park-25/
LOCATION:Apple Capital Gymnastics\, 230 S. Columbia St. #3\, Wenatchee\, WA\, 98801\, United States
CATEGORIES:Indoor Parks
END:VEVENT
BEGIN:VEVENT
DTSTART;TZID=America/Los_Angeles:20250927T083000
DTEND;TZID=America/Los_Angeles:20250927T100000
DTSTAMP:20260423T165628
CREATED:20250722T210231Z
LAST-MODIFIED:20250722T210231Z
UID:4863-1758961800-1758967200@applecapitalgymnastics.com
SUMMARY:Indoor Park
DESCRIPTION:Indoor Park for kids ages 0-7 yearsEvery Monday 9:30 – 11am and Saturday 8:30 – 10am \nFirst Child – $12 (tax included)Siblings – $8 (tax included)Please ask the office about our punch cards to earn a free day.
URL:https://applecapitalgymnastics.com/event/indoor-park-91/
LOCATION:Apple Capital Gymnastics\, 230 S. Columbia St. #3\, Wenatchee\, WA\, 98801\, United States
CATEGORIES:Indoor Parks
END:VEVENT
BEGIN:VEVENT
DTSTART;TZID=America/Los_Angeles:20250922T093000
DTEND;TZID=America/Los_Angeles:20250922T110000
DTSTAMP:20260423T165628
CREATED:20250717T235443Z
LAST-MODIFIED:20250717T235443Z
UID:4764-1758533400-1758538800@applecapitalgymnastics.com
SUMMARY:Indoor Park
DESCRIPTION:Indoor Park for kids ages 0-7 yearsEvery Monday 9:30 – 11am and Saturday 8:30 – 10am \nFirst Child – $12 (tax included)Siblings – $8 (tax included)Please ask the office about our punch cards to earn a free day.
URL:https://applecapitalgymnastics.com/event/indoor-park-24/
LOCATION:Apple Capital Gymnastics\, 230 S. Columbia St. #3\, Wenatchee\, WA\, 98801\, United States
CATEGORIES:Indoor Parks
END:VEVENT
BEGIN:VEVENT
DTSTART;TZID=America/Los_Angeles:20250920T083000
DTEND;TZID=America/Los_Angeles:20250920T100000
DTSTAMP:20260423T165628
CREATED:20250722T210229Z
LAST-MODIFIED:20250903T152636Z
UID:4862-1758357000-1758362400@applecapitalgymnastics.com
SUMMARY:National Gymnastics Day - Indoor Park
DESCRIPTION:Indoor Park – National Gymnastics Day!\n\n\n\nAges 0-7  Come join the fun and celebrate National Gymnastics Day at Apple Capital Gymnastics! Games\, Free Raffles\, and more! \n\n\n\nFirst child = $15 Siblings = $12
URL:https://applecapitalgymnastics.com/event/indoor-park-national-gymnastics-day/
CATEGORIES:Indoor Parks
END:VEVENT
BEGIN:VEVENT
DTSTART;TZID=America/Los_Angeles:20250919T190000
DTEND;TZID=America/Los_Angeles:20250919T210000
DTSTAMP:20260423T165628
CREATED:20250827T192636Z
LAST-MODIFIED:20251207T071526Z
UID:5298-1758308400-1758315600@applecapitalgymnastics.com
SUMMARY:National Gymnastics Day - Open Gym
DESCRIPTION:Open Gym – National Gymnastics Day!\n\n\n\nAges 7-16  Come join the fun and celebrate National Gymnastics Day at Apple Capital Gymnastics! Games\, Free Raffles\, and more! \n\n\n\nFirst child = $25  Siblings = $20 \n\n\n\n\n\n\n\n \n\n\n\nNational Gymnastics Day: Celebrating Strength\, Discipline\, and Community \n\n\n\nNational Gymnastics Day is a special annual celebration in the United States dedicated to honoring the sport of gymnastics and the athletes\, coaches\, and fans who contribute to its growth and success. Typically observed on the third Saturday of September\, this day brings attention to the physical and mental discipline gymnastics requires\, while also highlighting its positive impact on youth development and community engagement. \n\n\n\nGymnastics is one of the oldest and most respected sports in the world\, dating back to ancient Greece where it was used to prepare men for warfare. Over time\, it evolved into a competitive and artistic sport that now includes multiple disciplines such as artistic gymnastics\, rhythmic gymnastics\, trampoline\, acrobatics\, and aerobic gymnastics. Each of these forms demands intense training\, flexibility\, coordination\, strength\, and mental focus. National Gymnastics Day serves as an opportunity to showcase the talent and hard work of gymnasts at all levels—from beginners to Olympians. \n\n\n\nOne of the primary goals of National Gymnastics Day is to promote the benefits of gymnastics for young people. It is widely recognized that gymnastics helps children develop physical skills like balance\, coordination\, and strength\, but it also encourages mental toughness\, perseverance\, and self-confidence. These qualities often translate into other areas of life\, such as academics and relationships\, making gymnastics an excellent foundational sport for overall growth. On National Gymnastics Day\, clubs and organizations across the country host open houses\, exhibitions\, and special events to invite the community to experience the sport firsthand. \n\n\n\nNational Gymnastics Day is also a time to celebrate the achievements of American gymnasts on the world stage. The United States has a rich history of excellence in gymnastics\, producing iconic athletes such as Simone Biles\, Mary Lou Retton\, Shannon Miller\, and Nastia Liukin. These athletes have not only brought home Olympic medals but have also inspired generations of young gymnasts to dream big and work hard. Events held on this day often feature performances and meet-and-greet opportunities with current and former elite athletes\, providing motivation and excitement for fans of all ages. \n\n\n\nIn addition to celebrating the sport\, National Gymnastics Day often emphasizes giving back to the community. Many gymnastics clubs partner with charitable organizations to raise money or donate services to children and families in need. For example\, USA Gymnastics has previously encouraged clubs to participate in fundraising initiatives that support underprivileged youth and promote physical activity. This spirit of service highlights the community-focused values at the heart of the sport. \n\n\n\nSocial media also plays a significant role in the celebration of National Gymnastics Day. Hashtags like #NationalGymnasticsDay and #NGD are used by individuals\, clubs\, and organizations to share photos\, videos\, and stories that reflect their love of gymnastics. These posts help build a sense of unity among gymnasts and fans across the country\, while also drawing attention to the importance of physical fitness and youth sports. Viral challenges\, special routines\, and creative tributes often emerge online\, keeping the celebration lively and engaging. \n\n\n\nWhether you’re a competitive gymnast\, a recreational participant\, a coach\, or simply a fan of the sport\, National Gymnastics Day offers something for everyone. It’s a day to celebrate the dedication it takes to succeed in gymnastics\, to educate the public about the sport’s value\, and to inspire the next generation of athletes. Most importantly\, it’s a time to come together and recognize the power of sport to build confidence\, create community\, and transform lives. \n\n\n\nAs the world of gymnastics continues to evolve and grow\, National Gymnastics Day remains a vibrant reminder of how sport can unite people through shared passion\, discipline\, and joy.
URL:https://applecapitalgymnastics.com/event/national-gymnastics-day-open-gym/
CATEGORIES:Holiday Event
END:VEVENT
BEGIN:VEVENT
DTSTART;TZID=America/Los_Angeles:20250915T093000
DTEND;TZID=America/Los_Angeles:20250915T110000
DTSTAMP:20260423T165628
CREATED:20250717T235442Z
LAST-MODIFIED:20250906T030222Z
UID:4763-1757928600-1757934000@applecapitalgymnastics.com
SUMMARY:Indoor Park
DESCRIPTION:This indoor park is cancelled due to construction. \n 
URL:https://applecapitalgymnastics.com/event/indoor-park-23/
LOCATION:Apple Capital Gymnastics\, 230 S. Columbia St. #3\, Wenatchee\, WA\, 98801\, United States
CATEGORIES:Indoor Parks
END:VEVENT
BEGIN:VEVENT
DTSTART;TZID=America/Los_Angeles:20250913T083000
DTEND;TZID=America/Los_Angeles:20250913T100000
DTSTAMP:20260423T165628
CREATED:20241221T202433Z
LAST-MODIFIED:20250716T210212Z
UID:2209-1757752200-1757757600@applecapitalgymnastics.com
SUMMARY:Indoor Park
DESCRIPTION:Indoor Park for kids ages 0-7 yearsEvery Monday 9:30 – 11am and Saturday 8:30 – 10am \nFirst Child – $12 (tax included)Siblings – $8 (tax included)Please ask the office about our punch cards to earn a free day.
URL:https://applecapitalgymnastics.com/event/indoor-park-29/
LOCATION:Apple Capital Gymnastics\, 230 S. Columbia St. #3\, Wenatchee\, WA\, 98801\, United States
CATEGORIES:Indoor Parks
END:VEVENT
BEGIN:VEVENT
DTSTART;TZID=America/Los_Angeles:20250908T093000
DTEND;TZID=America/Los_Angeles:20250908T110000
DTSTAMP:20260423T165628
CREATED:20241221T202432Z
LAST-MODIFIED:20250808T180032Z
UID:2208-1757323800-1757329200@applecapitalgymnastics.com
SUMMARY:Indoor Park
DESCRIPTION:Indoor Park for kids ages 0-7 yearsEvery Monday 9:30 – 11am and Saturday 8:30 – 10am \nFirst Child – $12 (tax included)Siblings – $8 (tax included)Please ask the office about our punch cards to earn a free day.
URL:https://applecapitalgymnastics.com/event/indoor-park-28/
LOCATION:Apple Capital Gymnastics\, 230 S. Columbia St. #3\, Wenatchee\, WA\, 98801\, United States
CATEGORIES:Indoor Parks
END:VEVENT
BEGIN:VEVENT
DTSTART;TZID=America/Los_Angeles:20250901T000000
DTEND;TZID=America/Los_Angeles:20250901T235959
DTSTAMP:20260423T165628
CREATED:20250819T143623Z
LAST-MODIFIED:20250819T143735Z
UID:5190-1756684800-1756771199@applecapitalgymnastics.com
SUMMARY:CLOSED - Labor Day
DESCRIPTION:No classes today
URL:https://applecapitalgymnastics.com/event/closed-labor-day/
CATEGORIES:Notices
END:VEVENT
BEGIN:VEVENT
DTSTART;TZID=America/Los_Angeles:20250818T000000
DTEND;TZID=America/Los_Angeles:20250822T235959
DTSTAMP:20260423T165628
CREATED:20250818T174314Z
LAST-MODIFIED:20250818T174530Z
UID:5186-1755475200-1755907199@applecapitalgymnastics.com
SUMMARY:CLOSED - No Classes
DESCRIPTION:Closed this week. Fall classes begin August 25.
URL:https://applecapitalgymnastics.com/event/closed-no-classes-2/
CATEGORIES:Notices
END:VEVENT
END:VCALENDAR