BEGIN:VCALENDAR
VERSION:2.0
PRODID:-//Apple Capital Gymnastics - ECPv6.15.20//NONSGML v1.0//EN
CALSCALE:GREGORIAN
METHOD:PUBLISH
X-WR-CALNAME:Apple Capital Gymnastics
X-ORIGINAL-URL:https://applecapitalgymnastics.com
X-WR-CALDESC:Events for Apple Capital Gymnastics
REFRESH-INTERVAL;VALUE=DURATION:PT1H
X-Robots-Tag:noindex
X-PUBLISHED-TTL:PT1H
BEGIN:VTIMEZONE
TZID:America/Los_Angeles
BEGIN:DAYLIGHT
TZOFFSETFROM:-0800
TZOFFSETTO:-0700
TZNAME:PDT
DTSTART:20240310T100000
END:DAYLIGHT
BEGIN:STANDARD
TZOFFSETFROM:-0700
TZOFFSETTO:-0800
TZNAME:PST
DTSTART:20241103T090000
END:STANDARD
BEGIN:DAYLIGHT
TZOFFSETFROM:-0800
TZOFFSETTO:-0700
TZNAME:PDT
DTSTART:20250309T100000
END:DAYLIGHT
BEGIN:STANDARD
TZOFFSETFROM:-0700
TZOFFSETTO:-0800
TZNAME:PST
DTSTART:20251102T090000
END:STANDARD
BEGIN:DAYLIGHT
TZOFFSETFROM:-0800
TZOFFSETTO:-0700
TZNAME:PDT
DTSTART:20260308T100000
END:DAYLIGHT
BEGIN:STANDARD
TZOFFSETFROM:-0700
TZOFFSETTO:-0800
TZNAME:PST
DTSTART:20261101T090000
END:STANDARD
END:VTIMEZONE
BEGIN:VEVENT
DTSTART;TZID=America/Los_Angeles:20250901T000000
DTEND;TZID=America/Los_Angeles:20250901T235959
DTSTAMP:20260424T035431
CREATED:20250819T143623Z
LAST-MODIFIED:20250819T143735Z
UID:5190-1756684800-1756771199@applecapitalgymnastics.com
SUMMARY:CLOSED - Labor Day
DESCRIPTION:No classes today
URL:https://applecapitalgymnastics.com/event/closed-labor-day/
LOCATION:WA
CATEGORIES:Notices
END:VEVENT
BEGIN:VEVENT
DTSTART;TZID=America/Los_Angeles:20250818T000000
DTEND;TZID=America/Los_Angeles:20250822T235959
DTSTAMP:20260424T035431
CREATED:20250818T174314Z
LAST-MODIFIED:20250818T174530Z
UID:5186-1755475200-1755907199@applecapitalgymnastics.com
SUMMARY:CLOSED - No Classes
DESCRIPTION:Closed this week. Fall classes begin August 25.
URL:https://applecapitalgymnastics.com/event/closed-no-classes-2/
LOCATION:WA
CATEGORIES:Notices
END:VEVENT
BEGIN:VEVENT
DTSTART;TZID=America/Los_Angeles:20250614T083000
DTEND;TZID=America/Los_Angeles:20250614T100000
DTSTAMP:20260424T035431
CREATED:20241221T202547Z
LAST-MODIFIED:20250610T134855Z
UID:2235-1749889800-1749895200@applecapitalgymnastics.com
SUMMARY:Indoor Park
DESCRIPTION:Indoor Park for kids ages 0-7 yearsEvery Monday 9:30 – 11am and Saturday 8:30 – 10amFirst Child – $12 (tax included)Siblings – $8 (tax included)Please ask the office about our punch cards to earn a free day.
URL:https://applecapitalgymnastics.com/event/indoor-park-55/
LOCATION:Apple Capital Gymnastics\, 230 S. Columbia St. #3\, Wenatchee\, WA\, 98801\, United States
CATEGORIES:Indoor Parks
END:VEVENT
BEGIN:VEVENT
DTSTART;TZID=America/Los_Angeles:20250607T083000
DTEND;TZID=America/Los_Angeles:20250607T100000
DTSTAMP:20260424T035431
CREATED:20241221T202547Z
LAST-MODIFIED:20241221T202547Z
UID:2234-1749285000-1749290400@applecapitalgymnastics.com
SUMMARY:Indoor Park
DESCRIPTION:Indoor Park for kids ages 0-7 yearsEvery Monday 9:30 – 11am and Saturday 8:30 – 10am \nFirst Child – $12 (tax included)Siblings – $8 (tax included)Please ask the office about our punch cards to earn a free day.
URL:https://applecapitalgymnastics.com/event/indoor-park-54/
LOCATION:Apple Capital Gymnastics\, 230 S. Columbia St. #3\, Wenatchee\, WA\, 98801\, United States
CATEGORIES:Indoor Parks
END:VEVENT
BEGIN:VEVENT
DTSTART;TZID=America/Los_Angeles:20250602T000000
DTEND;TZID=America/Los_Angeles:20250605T235959
DTSTAMP:20260424T035431
CREATED:20250407T230817Z
LAST-MODIFIED:20250827T214903Z
UID:4278-1748822400-1749167999@applecapitalgymnastics.com
SUMMARY:June Jubilee
DESCRIPTION:No regular classes will be held on these days. Individual performance times to be announced.
URL:https://applecapitalgymnastics.com/event/june-jubilee/
LOCATION:WA
END:VEVENT
BEGIN:VEVENT
DTSTART;TZID=America/Los_Angeles:20250531T083000
DTEND;TZID=America/Los_Angeles:20250531T100000
DTSTAMP:20260424T035431
CREATED:20241221T202547Z
LAST-MODIFIED:20241221T202547Z
UID:2233-1748680200-1748685600@applecapitalgymnastics.com
SUMMARY:Indoor Park
DESCRIPTION:Indoor Park for kids ages 0-7 yearsEvery Monday 9:30 – 11am and Saturday 8:30 – 10am \nFirst Child – $12 (tax included)Siblings – $8 (tax included)Please ask the office about our punch cards to earn a free day.
URL:https://applecapitalgymnastics.com/event/indoor-park-53/
LOCATION:Apple Capital Gymnastics\, 230 S. Columbia St. #3\, Wenatchee\, WA\, 98801\, United States
CATEGORIES:Indoor Parks
END:VEVENT
BEGIN:VEVENT
DTSTART;TZID=America/Los_Angeles:20250526T000000
DTEND;TZID=America/Los_Angeles:20250526T235959
DTSTAMP:20260424T035431
CREATED:20250305T071912Z
LAST-MODIFIED:20250305T153250Z
UID:4151-1748217600-1748303999@applecapitalgymnastics.com
SUMMARY:CLOSED - No Classes
DESCRIPTION:Closed for Memorial Day. No classes.
URL:https://applecapitalgymnastics.com/event/closed-no-classes/
LOCATION:WA
CATEGORIES:Notices
END:VEVENT
BEGIN:VEVENT
DTSTART;TZID=America/Los_Angeles:20250524T083000
DTEND;TZID=America/Los_Angeles:20250524T100000
DTSTAMP:20260424T035431
CREATED:20241221T202547Z
LAST-MODIFIED:20241221T202547Z
UID:2232-1748075400-1748080800@applecapitalgymnastics.com
SUMMARY:Indoor Park
DESCRIPTION:Indoor Park for kids ages 0-7 yearsEvery Monday 9:30 – 11am and Saturday 8:30 – 10am \nFirst Child – $12 (tax included)Siblings – $8 (tax included)Please ask the office about our punch cards to earn a free day.
URL:https://applecapitalgymnastics.com/event/indoor-park-52/
LOCATION:Apple Capital Gymnastics\, 230 S. Columbia St. #3\, Wenatchee\, WA\, 98801\, United States
CATEGORIES:Indoor Parks
END:VEVENT
BEGIN:VEVENT
DTSTART;TZID=America/Los_Angeles:20250519T093000
DTEND;TZID=America/Los_Angeles:20250519T110000
DTSTAMP:20260424T035431
CREATED:20241221T202417Z
LAST-MODIFIED:20241221T202417Z
UID:2202-1747647000-1747652400@applecapitalgymnastics.com
SUMMARY:Indoor Park
DESCRIPTION:Indoor Park for kids ages 0-7 yearsEvery Monday 9:30 – 11am and Saturday 8:30 – 10am \nFirst Child – $12 (tax included)Siblings – $8 (tax included)Please ask the office about our punch cards to earn a free day.
URL:https://applecapitalgymnastics.com/event/indoor-park-22/
LOCATION:Apple Capital Gymnastics\, 230 S. Columbia St. #3\, Wenatchee\, WA\, 98801\, United States
CATEGORIES:Indoor Parks
END:VEVENT
BEGIN:VEVENT
DTSTART;TZID=America/Los_Angeles:20250517T083000
DTEND;TZID=America/Los_Angeles:20250517T100000
DTSTAMP:20260424T035431
CREATED:20241221T202546Z
LAST-MODIFIED:20241221T202546Z
UID:2231-1747470600-1747476000@applecapitalgymnastics.com
SUMMARY:Indoor Park
DESCRIPTION:Indoor Park for kids ages 0-7 yearsEvery Monday 9:30 – 11am and Saturday 8:30 – 10am \nFirst Child – $12 (tax included)Siblings – $8 (tax included)Please ask the office about our punch cards to earn a free day.
URL:https://applecapitalgymnastics.com/event/indoor-park-51/
LOCATION:Apple Capital Gymnastics\, 230 S. Columbia St. #3\, Wenatchee\, WA\, 98801\, United States
CATEGORIES:Indoor Parks
END:VEVENT
BEGIN:VEVENT
DTSTART;TZID=America/Los_Angeles:20250512T093000
DTEND;TZID=America/Los_Angeles:20250512T110000
DTSTAMP:20260424T035431
CREATED:20241221T202416Z
LAST-MODIFIED:20241221T202416Z
UID:2201-1747042200-1747047600@applecapitalgymnastics.com
SUMMARY:Indoor Park
DESCRIPTION:Indoor Park for kids ages 0-7 yearsEvery Monday 9:30 – 11am and Saturday 8:30 – 10am \nFirst Child – $12 (tax included)Siblings – $8 (tax included)Please ask the office about our punch cards to earn a free day.
URL:https://applecapitalgymnastics.com/event/indoor-park-21/
LOCATION:Apple Capital Gymnastics\, 230 S. Columbia St. #3\, Wenatchee\, WA\, 98801\, United States
CATEGORIES:Indoor Parks
END:VEVENT
BEGIN:VEVENT
DTSTART;TZID=America/Los_Angeles:20250510T083000
DTEND;TZID=America/Los_Angeles:20250510T100000
DTSTAMP:20260424T035431
CREATED:20241221T202533Z
LAST-MODIFIED:20241221T202533Z
UID:2230-1746865800-1746871200@applecapitalgymnastics.com
SUMMARY:Indoor Park
DESCRIPTION:Indoor Park for kids ages 0-7 yearsEvery Monday 9:30 – 11am and Saturday 8:30 – 10am \nFirst Child – $12 (tax included)Siblings – $8 (tax included)Please ask the office about our punch cards to earn a free day.
URL:https://applecapitalgymnastics.com/event/indoor-park-50/
LOCATION:Apple Capital Gymnastics\, 230 S. Columbia St. #3\, Wenatchee\, WA\, 98801\, United States
CATEGORIES:Indoor Parks
END:VEVENT
BEGIN:VEVENT
DTSTART;TZID=America/Los_Angeles:20250505T093000
DTEND;TZID=America/Los_Angeles:20250505T110000
DTSTAMP:20260424T035431
CREATED:20241221T202403Z
LAST-MODIFIED:20241221T202403Z
UID:2200-1746437400-1746442800@applecapitalgymnastics.com
SUMMARY:Indoor Park
DESCRIPTION:Indoor Park for kids ages 0-7 yearsEvery Monday 9:30 – 11am and Saturday 8:30 – 10am \nFirst Child – $12 (tax included)Siblings – $8 (tax included)Please ask the office about our punch cards to earn a free day.
URL:https://applecapitalgymnastics.com/event/indoor-park-20/
LOCATION:Apple Capital Gymnastics\, 230 S. Columbia St. #3\, Wenatchee\, WA\, 98801\, United States
CATEGORIES:Indoor Parks
END:VEVENT
BEGIN:VEVENT
DTSTART;TZID=America/Los_Angeles:20250503T083000
DTEND;TZID=America/Los_Angeles:20250503T100000
DTSTAMP:20260424T035431
CREATED:20241221T202533Z
LAST-MODIFIED:20250423T211128Z
UID:2229-1746261000-1746266400@applecapitalgymnastics.com
SUMMARY:Indoor Park
DESCRIPTION:Indoor Park is cancelled due to the Apple Blossom Grand Parade.
URL:https://applecapitalgymnastics.com/event/indoor-park-49/
LOCATION:Apple Capital Gymnastics\, 230 S. Columbia St. #3\, Wenatchee\, WA\, 98801\, United States
CATEGORIES:Indoor Parks
END:VEVENT
BEGIN:VEVENT
DTSTART;TZID=America/Los_Angeles:20250428T093000
DTEND;TZID=America/Los_Angeles:20250428T110000
DTSTAMP:20260424T035431
CREATED:20241221T202403Z
LAST-MODIFIED:20241221T202403Z
UID:2199-1745832600-1745838000@applecapitalgymnastics.com
SUMMARY:Indoor Park
DESCRIPTION:Indoor Park for kids ages 0-7 yearsEvery Monday 9:30 – 11am and Saturday 8:30 – 10am \nFirst Child – $12 (tax included)Siblings – $8 (tax included)Please ask the office about our punch cards to earn a free day.
URL:https://applecapitalgymnastics.com/event/indoor-park-19/
LOCATION:Apple Capital Gymnastics\, 230 S. Columbia St. #3\, Wenatchee\, WA\, 98801\, United States
CATEGORIES:Indoor Parks
END:VEVENT
BEGIN:VEVENT
DTSTART;TZID=America/Los_Angeles:20250426T101500
DTEND;TZID=America/Los_Angeles:20250426T130000
DTSTAMP:20260424T035431
CREATED:20250423T165335Z
LAST-MODIFIED:20250423T210633Z
UID:4284-1745662500-1745672400@applecapitalgymnastics.com
SUMMARY:Apple Blossom Youth Parade!
DESCRIPTION:Join us in the Youth Parade THIS SATURDAY! \n\n\n\nAll members walk for free. If you ordered a shirt those will be ready for pick up tomorrow Tuesday the 22nd! \n\n\n\nREMEMBER TO BRING YOUR SIGNED WAIVER. MUST HAVE ONE TO PARTICIPATE. \n\n\n\nChildren 8 and under need to be accompanied by an adult.
URL:https://applecapitalgymnastics.com/event/apple-blossom-youth-parade/
LOCATION:WA
ATTACH;FMTTYPE=image/jpeg:https://applecapitalgymnastics.com/wp-content/uploads/2025/04/youth-parade-2025.jpg
END:VEVENT
END:VCALENDAR