BEGIN:VCALENDAR
VERSION:2.0
PRODID:-//Apple Capital Gymnastics - ECPv6.15.20//NONSGML v1.0//EN
CALSCALE:GREGORIAN
METHOD:PUBLISH
X-WR-CALNAME:Apple Capital Gymnastics
X-ORIGINAL-URL:https://applecapitalgymnastics.com
X-WR-CALDESC:Events for Apple Capital Gymnastics
REFRESH-INTERVAL;VALUE=DURATION:PT1H
X-Robots-Tag:noindex
X-PUBLISHED-TTL:PT1H
BEGIN:VTIMEZONE
TZID:America/Los_Angeles
BEGIN:DAYLIGHT
TZOFFSETFROM:-0800
TZOFFSETTO:-0700
TZNAME:PDT
DTSTART:20250309T100000
END:DAYLIGHT
BEGIN:STANDARD
TZOFFSETFROM:-0700
TZOFFSETTO:-0800
TZNAME:PST
DTSTART:20251102T090000
END:STANDARD
BEGIN:DAYLIGHT
TZOFFSETFROM:-0800
TZOFFSETTO:-0700
TZNAME:PDT
DTSTART:20260308T100000
END:DAYLIGHT
BEGIN:STANDARD
TZOFFSETFROM:-0700
TZOFFSETTO:-0800
TZNAME:PST
DTSTART:20261101T090000
END:STANDARD
BEGIN:DAYLIGHT
TZOFFSETFROM:-0800
TZOFFSETTO:-0700
TZNAME:PDT
DTSTART:20270314T100000
END:DAYLIGHT
BEGIN:STANDARD
TZOFFSETFROM:-0700
TZOFFSETTO:-0800
TZNAME:PST
DTSTART:20271107T090000
END:STANDARD
END:VTIMEZONE
BEGIN:VEVENT
DTSTART;TZID=America/Los_Angeles:20260509T083000
DTEND;TZID=America/Los_Angeles:20260509T100000
DTSTAMP:20260423T145847
CREATED:20250722T210914Z
LAST-MODIFIED:20250722T210914Z
UID:4895-1778315400-1778320800@applecapitalgymnastics.com
SUMMARY:Indoor Park
DESCRIPTION:Indoor Park for kids ages 0-7 yearsEvery Monday 9:30 – 11am and Saturday 8:30 – 10am \nFirst Child – $12 (tax included)Siblings – $8 (tax included)Please ask the office about our punch cards to earn a free day.
URL:https://applecapitalgymnastics.com/event/indoor-park-123/
LOCATION:Apple Capital Gymnastics\, 230 S. Columbia St. #3\, Wenatchee\, WA\, 98801\, United States
CATEGORIES:Indoor Parks
END:VEVENT
BEGIN:VEVENT
DTSTART;TZID=America/Los_Angeles:20260511T093000
DTEND;TZID=America/Los_Angeles:20260511T110000
DTSTAMP:20260423T145847
CREATED:20250717T235620Z
LAST-MODIFIED:20250717T235620Z
UID:4797-1778491800-1778497200@applecapitalgymnastics.com
SUMMARY:Indoor Park
DESCRIPTION:Indoor Park for kids ages 0-7 yearsEvery Monday 9:30 – 11am and Saturday 8:30 – 10am \nFirst Child – $12 (tax included)Siblings – $8 (tax included)Please ask the office about our punch cards to earn a free day.
URL:https://applecapitalgymnastics.com/event/indoor-park-87/
LOCATION:Apple Capital Gymnastics\, 230 S. Columbia St. #3\, Wenatchee\, WA\, 98801\, United States
CATEGORIES:Indoor Parks
END:VEVENT
BEGIN:VEVENT
DTSTART;TZID=America/Los_Angeles:20260516T083000
DTEND;TZID=America/Los_Angeles:20260516T100000
DTSTAMP:20260423T145847
CREATED:20250722T211112Z
LAST-MODIFIED:20250722T211112Z
UID:4896-1778920200-1778925600@applecapitalgymnastics.com
SUMMARY:Indoor Park
DESCRIPTION:Indoor Park for kids ages 0-7 yearsEvery Monday 9:30 – 11am and Saturday 8:30 – 10am \nFirst Child – $12 (tax included)Siblings – $8 (tax included)Please ask the office about our punch cards to earn a free day.
URL:https://applecapitalgymnastics.com/event/indoor-park-124/
LOCATION:Apple Capital Gymnastics\, 230 S. Columbia St. #3\, Wenatchee\, WA\, 98801\, United States
CATEGORIES:Indoor Parks
END:VEVENT
BEGIN:VEVENT
DTSTART;TZID=America/Los_Angeles:20260518T093000
DTEND;TZID=America/Los_Angeles:20260518T110000
DTSTAMP:20260423T145847
CREATED:20250717T235620Z
LAST-MODIFIED:20250717T235620Z
UID:4798-1779096600-1779102000@applecapitalgymnastics.com
SUMMARY:Indoor Park
DESCRIPTION:Indoor Park for kids ages 0-7 yearsEvery Monday 9:30 – 11am and Saturday 8:30 – 10am \nFirst Child – $12 (tax included)Siblings – $8 (tax included)Please ask the office about our punch cards to earn a free day.
URL:https://applecapitalgymnastics.com/event/indoor-park-88/
LOCATION:Apple Capital Gymnastics\, 230 S. Columbia St. #3\, Wenatchee\, WA\, 98801\, United States
CATEGORIES:Indoor Parks
END:VEVENT
BEGIN:VEVENT
DTSTART;TZID=America/Los_Angeles:20260523T083000
DTEND;TZID=America/Los_Angeles:20260523T100000
DTSTAMP:20260423T145847
CREATED:20250722T211113Z
LAST-MODIFIED:20260423T174145Z
UID:4897-1779525000-1779530400@applecapitalgymnastics.com
SUMMARY:Indoor Park
DESCRIPTION:Indoor Park is cancelled today for Memorial Day weekend.
URL:https://applecapitalgymnastics.com/event/indoor-park-125/
LOCATION:WA
CATEGORIES:Indoor Parks
END:VEVENT
BEGIN:VEVENT
DTSTART;TZID=America/Los_Angeles:20260525T000000
DTEND;TZID=America/Los_Angeles:20260525T235959
DTSTAMP:20260423T145847
CREATED:20250819T145831Z
LAST-MODIFIED:20250819T145834Z
UID:5202-1779667200-1779753599@applecapitalgymnastics.com
SUMMARY:CLOSED - Memorial Day
DESCRIPTION:Closed for Memorial Day. No classes.
URL:https://applecapitalgymnastics.com/event/closed-memorial-day/
LOCATION:WA
CATEGORIES:Notices
END:VEVENT
BEGIN:VEVENT
DTSTART;TZID=America/Los_Angeles:20260525T093000
DTEND;TZID=America/Los_Angeles:20260525T110000
DTSTAMP:20260423T145847
CREATED:20250717T235621Z
LAST-MODIFIED:20260423T174852Z
UID:4799-1779701400-1779706800@applecapitalgymnastics.com
SUMMARY:Indoor Park
DESCRIPTION:Indoor Park is cancelled today for Memorial Day.
URL:https://applecapitalgymnastics.com/event/indoor-park-89/
LOCATION:WA
CATEGORIES:Indoor Parks
END:VEVENT
BEGIN:VEVENT
DTSTART;TZID=America/Los_Angeles:20260530T083000
DTEND;TZID=America/Los_Angeles:20260530T100000
DTSTAMP:20260423T145847
CREATED:20250722T211114Z
LAST-MODIFIED:20260101T204134Z
UID:4898-1780129800-1780135200@applecapitalgymnastics.com
SUMMARY:Indoor Park
DESCRIPTION:Indoor Park for kids ages 0-7 yearsEvery Monday 9:30 – 11am and Saturday 8:30 – 10am \nFirst Child – $12 (tax included)Siblings – $8 (tax included)Please ask the office about our punch cards to earn a free day.
URL:https://applecapitalgymnastics.com/event/indoor-park-126/
LOCATION:Apple Capital Gymnastics\, 230 S. Columbia St. #3\, Wenatchee\, WA\, 98801\, United States
CATEGORIES:Indoor Parks
END:VEVENT
BEGIN:VEVENT
DTSTART;TZID=America/Los_Angeles:20260601T000000
DTEND;TZID=America/Los_Angeles:20260604T235959
DTSTAMP:20260423T145847
CREATED:20250819T150009Z
LAST-MODIFIED:20260423T174504Z
UID:5204-1780272000-1780617599@applecapitalgymnastics.com
SUMMARY:June Jubilee
DESCRIPTION:June Jubilee week – No regular classes will be held on these days. Instead we will have end of year performances. Individual performance times to be announced.
URL:https://applecapitalgymnastics.com/event/june-jubilee-2/
LOCATION:Apple Capital Gymnastics\, 230 S. Columbia St. #3\, Wenatchee\, WA\, 98801\, United States
CATEGORIES:Notices
END:VEVENT
END:VCALENDAR